Workbook
Name _: [1]Training!$J$1:$J$45
Name a: [2]노무비!#REF!
Name a: [2]노무비!#REF!
Name a: [2]노무비!#REF!
Name aaaa: '[3]인원계획-미화'!#REF!
Name aaaa: '[3]인원계획-미화'!#REF!
Name aaaa: '[3]인원계획-미화'!#REF!
Name CELLNOTE10: [4]노무비!#REF!
Name CELLNOTE10: [4]노무비!#REF!
Name CELLNOTE10: [4]노무비!#REF!
Name CELLNOTE4: [5]노무비!#REF!
Name CELLNOTE4: [5]노무비!#REF!
Name CELLNOTE4: [5]노무비!#REF!
Name CELLNOTE5: [4]노무비!#REF!
Name CELLNOTE5: [4]노무비!#REF!
Name CELLNOTE5: [4]노무비!#REF!
Name CELLNOTE6: [5]노무비!#REF!
Name CELLNOTE6: [5]노무비!#REF!
Name CELLNOTE6: [5]노무비!#REF!
Name CELLNOTE8: [5]노무비!#REF!
Name CELLNOTE8: [5]노무비!#REF!
Name CELLNOTE8: [5]노무비!#REF!
Name cfdd: [4]노무비!#REF!
Name cfdd: [4]노무비!#REF!
Name cfdd: [4]노무비!#REF!
Name Cover: '[1]Facility Information'!$A$1:$H$27
Name CR: #REF!
Name CR: #REF!
Name CR: #REF!
Name CRa: #REF!
Name CRa: #REF!
Name CRa: #REF!
Name CRb: #REF!
Name CRb: #REF!
Name CRb: #REF!
Name ddd: #REF!
Name ddd: #REF!
Name ddd: #REF!
Name dddd: [5]노무비!#REF!
Name dddd: [5]노무비!#REF!
Name dddd: [5]노무비!#REF!
Name dhdhdh: '[3]인원계획-미화'!#REF!
Name dhdhdh: '[3]인원계획-미화'!#REF!
Name dhdhdh: '[3]인원계획-미화'!#REF!
Name FirstFinYearEnd: [6]재무가정!$H$13
Name General: [1]General!$A$1:$J$557
Name Graph: #REF!
Name Graph: #REF!
Name Graph: #REF!
Name hhh: '[3]인원계획-미화'!#REF!
Name hhh: '[3]인원계획-미화'!#REF!
Name hhh: '[3]인원계획-미화'!#REF!
Name hhhhhhhh: [5]노무비!#REF!
Name hhhhhhhh: [5]노무비!#REF!
Name hhhhhhhh: [5]노무비!#REF!
Name Instructions: [1]Instructions!$A$1:$C$67
Name kkkkk: '[7]인원계획-미화'!#REF!
Name kkkkk: '[7]인원계획-미화'!#REF!
Name kkkkk: '[7]인원계획-미화'!#REF!
Name kl: [5]노무비!#REF!

Sheet 2015년도
A1: 2015년도 청사 에너지 사용 현황
G2: ◁ 구청사 | H2: 신청사 ▷
C3: =ROUND(#REF!/#REF!,3) -> #REF! | D3: =ROUND(#REF!/#REF!,3) -> #REF! | E3: =ROUND(#REF!/#REF!,3) -> #REF! | F3: =ROUND(#REF!/#REF!,3) -> #REF! | G3: =ROUND(#REF!/#REF!,3) -> #REF! | H3: =ROUND(#REF!/#REF!,3) -> #REF! | I3: =ROUND(#REF!/#REF!,3) -> #REF! | J3: =ROUND(#REF!/#REF!,3) -> #REF! | ... N3: =ROUND(#REF!/#REF!,3) -> #REF! | O3: =SUM(C3:N3) -> #REF!
C4: 0.073 | D4: 0.071 | E4: 0.073 | F4: 0.073 | G4: 0.075 | H4: 0.078 | I4: 0.116 | J4: 0.115 | K4: 0.085 | L4: 0.08 | M4: 0.08 | N4: 0.081 | O4: =SUM(C4:N4) -> 1
A5: 구 분 | C5: 1월 | D5: 2월 | E5: 3월 | F5: 4월 | G5: 5월 | H5: 6월 | I5: 7월 | J5: 8월 | K5: 9월 | L5: 10월 | M5: 11월 | N5: 12월 | O5: 합 계
A6: 일반전기 | B6: 사용량(kWh) | C6: 113420 | D6: 89030 | E6: 90848 | F6: 95762 | G6: 100008 | H6: 74530 | I6: 75537 | J6: 72364 | K6: 68174 | L6: 60390 | M6: 56080 | N6: 70061 | O6: =SUM(C6:N6) -> 966204
A7: 심야전기 | B7: 사용량(kWh) | H7: 37358 | I7: 41707 | J7: 39130 | K7: 20784 | L7: 13052 | M7: 23554 | N7: 58623 | O7: =SUM(C7:N7) -> 234208
A8: 도시가스(주방) | B8: 사용량(㎥) | H8: 366 | I8: 415 | J8: 352 | K8: 309 | L8: 294 | M8: 328 | N8: 298 | O8: =SUM(C8:N8) -> 2362
A9: 도시가스(기계실) | B9: 사용량(㎥) | C9: 1031 | D9: 1029 | E9: 930 | F9: 0 | G9: 0 | H9: 524 | I9: 574 | J9: 559 | K9: 597 | L9: 678 | M9: 805 | N9: 813 | O9: =SUM(C9:N9) -> 7540
A10: 상하수도 | B10: 사용량(㎥) | C10: 1018 | D10: 673 | E10: 846 | F10: 1063 | G10: 403 | H10: 735 | I10: 407 | J10: 377 | K10: 468 | L10: 302 | M10: 324 | N10: 399 | O10: =SUM(C10:N10) -> 7015

Sheet 2016년도
A1: 2016년도 청사 에너지 사용 현황
C3: =ROUND(#REF!/#REF!,3) -> #REF! | D3: =ROUND(#REF!/#REF!,3) -> #REF! | E3: =ROUND(#REF!/#REF!,3) -> #REF! | F3: =ROUND(#REF!/#REF!,3) -> #REF! | G3: =ROUND(#REF!/#REF!,3) -> #REF! | H3: =ROUND(#REF!/#REF!,3) -> #REF! | I3: =ROUND(#REF!/#REF!,3) -> #REF! | J3: =ROUND(#REF!/#REF!,3) -> #REF! | ... N3: =ROUND(#REF!/#REF!,3) -> #REF! | O3: =SUM(C3:N3) -> #REF!
C4: 0.073 | D4: 0.071 | E4: 0.073 | F4: 0.073 | G4: 0.075 | H4: 0.078 | I4: 0.116 | J4: 0.115 | K4: 0.085 | L4: 0.08 | M4: 0.08 | N4: 0.081 | O4: =SUM(C4:N4) -> 1
A5: 구 분 | C5: 1월 | D5: 2월 | E5: 3월 | F5: 4월 | G5: 5월 | H5: 6월 | I5: 7월 | J5: 8월 | K5: 9월 | L5: 10월 | M5: 11월 | N5: 12월 | O5: 합 계
A6: 일반전기 | B6: 사용량(kWh) | C6: 78055 | D6: 71589 | E6: 71153 | F6: 65361 | G6: 62689 | H6: 67284 | I6: 69793 | J6: 71452 | K6: 62054 | L6: 64809 | M6: 68204 | N6: 76655 | O6: =SUM(C6:N6) -> 829098
A7: 심야전기 | B7: 사용량(kWh) | C7: 63139 | D7: 49589 | E7: 26679 | F7: 8477 | G7: 16027 | H7: 29558 | I7: 38155 | J7: 43426 | K7: 20352 | L7: 12845 | M7: 28080 | N7: 46305 | O7: =SUM(C7:N7) -> 382632
A8: 도시가스(주방) | B8: 사용량(㎥) | C8: 307.1684 | D8: 264.2845 | E8: 340.803 | F8: 232.1845 | G8: 201.293 | H8: 196.3105 | I8: 224.2125 | J8: 161.433 | K8: 153.461 | L8: 165.419 | M8: 181.363 | N8: 190.3315 | O8: =SUM(C8:N8) -> 2618.2639
A9: 도시가스(기계실) | B9: 사용량(㎥) | C9: 1037.192 | D9: 964.3891 | E9: 1073.2305 | F9: 857.9865 | G9: 811.151 | H9: 599.893 | I9: 437.4635 | J9: 379.6665 | K9: 350.768 | L9: 564.019 | M9: 661.676 | N9: 796.2035 | O9: =SUM(C9:N9) -> 8533.6386
A10: 상하수도 | B10: 사용량(㎥) | C10: 411 | D10: 377 | E10: 357 | F10: 321 | G10: 425 | H10: 561 | I10: 675 | J10: 1243 | K10: 362 | L10: 308 | M10: 425 | N10: 391 | O10: =SUM(C10:N10) -> 5856

Sheet 2017년도
A1: 2017년도 청사 에너지 사용 현황
C3: =ROUND(#REF!/#REF!,3) -> #REF! | D3: =ROUND(#REF!/#REF!,3) -> #REF! | E3: =ROUND(#REF!/#REF!,3) -> #REF! | F3: =ROUND(#REF!/#REF!,3) -> #REF! | G3: =ROUND(#REF!/#REF!,3) -> #REF! | H3: =ROUND(#REF!/#REF!,3) -> #REF! | I3: =ROUND(#REF!/#REF!,3) -> #REF! | J3: =ROUND(#REF!/#REF!,3) -> #REF! | ... N3: =ROUND(#REF!/#REF!,3) -> #REF! | O3: =SUM(C3:N3) -> #REF!
C4: 0.073 | D4: 0.071 | E4: 0.073 | F4: 0.073 | G4: 0.075 | H4: 0.078 | I4: 0.116 | J4: 0.115 | K4: 0.085 | L4: 0.08 | M4: 0.08 | N4: 0.081 | O4: =SUM(C4:N4) -> 1
A5: 구 분 | C5: 1월 | D5: 2월 | E5: 3월 | F5: 4월 | G5: 5월 | H5: 6월 | I5: 7월 | J5: 8월 | K5: 9월 | L5: 10월 | M5: 11월 | N5: 12월 | O5: 합 계
A6: 일반전기 | B6: 사용량(kWh) | C6: 78981 | D6: 73880 | E6: 74790 | F6: 64303 | G6: 60695 | H6: 65801 | I6: 84798 | J6: 106207 | K6: 99250 | O6: =SUM(C6:N6) -> 708705
B7: 전년동월대비증감(%) | C7: =C6/'2016년도'!C6 -> 1.0118634 | D7: =D6/'2016년도'!D6 -> 1.0320021 | E7: =E6/'2016년도'!E6 -> 1.0511152 | F7: =F6/'2016년도'!F6 -> 0.98381298 | G7: =G6/'2016년도'!G6 -> 0.96819219 | H7: =H6/'2016년도'!H6 -> 0.9779591 | I7: =I6/'2016년도'!I6 -> 1.2149929 | J7: =J6/'2016년도'!J6 -> 1.4864105 | ... N7: =N6/'2016년도'!N6 -> 0 | O7: =O6/SUM('2016년도'!C6:J6) -> 1.2715025
A8: 심야전기 | B8: 사용량(kWh) | C8: 59333 | D8: 49656 | E8: 31934 | F8: 14827 | G8: 18327 | H8: 29295 | I8: 40790 | J8: 47371 | K8: 24466 | O8: =SUM(C8:N8) -> 315999
B9: 전년동월대비증감(%) | C9: =C8/'2016년도'!C7 -> 0.9397203 | D9: =D8/'2016년도'!D7 -> 1.0013511 | E9: =E8/'2016년도'!E7 -> 1.1969714 | F9: =F8/'2016년도'!F7 -> 1.7490858 | G9: =G8/'2016년도'!G7 -> 1.1435078 | H9: =H8/'2016년도'!H7 -> 0.99110224 | I9: =I8/'2016년도'!I7 -> 1.0690604 | J9: =J8/'2016년도'!J7 -> 1.0908442 | ... N9: =N8/'2016년도'!N7 -> 0 | O9: =O8/SUM('2016년도'!C7:J7) -> 1.1488784
A10: 도시가스(주방) | B10: 사용량(㎥) | C10: 212.2545 | D10: 195.314 | E10: 227.1564 | F10: 195.2748 | G10: 139.482 | H10: 193.2822 | I10: 231.1416 | J10: 488.187 | K10: 404.4978 | O10: =SUM(C10:N10) -> 2286.5903
B11: 전년동월대비증감(%) | C11: =C10/'2016년도'!C8 -> 0.6910037 | D11: =D10/'2016년도'!D8 -> 0.73902934 | E11: =E10/'2016년도'!E8 -> 0.66653287 | F11: =F10/'2016년도'!F8 -> 0.84103289 | G11: =G10/'2016년도'!G8 -> 0.69293021 | H11: =H10/'2016년도'!H8 -> 0.98457393 | I11: =I10/'2016년도'!I8 -> 1.0309042 | J11: =J10/'2016년도'!J8 -> 3.0240843 | ... N11: =N10/'2016년도'!N8 -> 0 | O11: =O10/SUM('2016년도'!C8:J8) -> 1.1861819
A12: 도시가스(기계실) | B12: 사용량(㎥) | C12: 877.9165 | D12: 978.563 | E12: 998.2926 | F12: 850.8402 | G12: 727.299 | H12: 696.4137 | I12: 552.9465 | J12: 596.7837 | K12: 628.6653 | O12: =SUM(C12:N12) -> 6907.7205
B13: 전년동월대비증감(%) | C13: =C12/'2016년도'!C9 -> 0.84643586 | D13: =D12/'2016년도'!D9 -> 1.0146973 | E13: =E12/'2016년도'!E9 -> 0.93017539 | F13: =F12/'2016년도'!F9 -> 0.99167085 | G13: =G12/'2016년도'!G9 -> 0.89662591 | H13: =H12/'2016년도'!H9 -> 1.1608965 | I13: =I12/'2016년도'!I9 -> 1.2639832 | J13: =J12/'2016년도'!J9 -> 1.5718629 | ... N13: =N12/'2016년도'!N9 -> 0 | O13: =O12/SUM('2016년도'!C9:J9) -> 1.1212063
A14: 상하수도 | B14: 사용량(㎥) | C14: 294 | D14: 350 | E14: 389 | F14: 549 | G14: 996 | H14: 1111 | I14: 421 | J14: 523 | K14: 454 | O14: =SUM(C14:N14) -> 5087
B15: 전년동월대비증감(%) | C15: =C14/'2016년도'!C10 -> 0.71532847 | D15: =D14/'2016년도'!D10 -> 0.92838196 | E15: =E14/'2016년도'!E10 -> 1.0896359 | F15: =F14/'2016년도'!F10 -> 1.7102804 | G15: =G14/'2016년도'!G10 -> 2.3435294 | H15: =H14/'2016년도'!H10 -> 1.9803922 | I15: =I14/'2016년도'!I10 -> 0.6237037 | J15: =J14/'2016년도'!J10 -> 0.42075623 | ... N15: =N14/'2016년도'!N10 -> 0 | O15: =O14/SUM('2016년도'!C10:J10) -> 1.1640732
