Workbook
Name _: [1]Training!$J$1:$J$45
Name a: [2]노무비!#REF!
Name a: [2]노무비!#REF!
Name a: [2]노무비!#REF!
Name aaaa: '[3]인원계획-미화'!#REF!
Name aaaa: '[3]인원계획-미화'!#REF!
Name aaaa: '[3]인원계획-미화'!#REF!
Name CELLNOTE10: [4]노무비!#REF!
Name CELLNOTE10: [4]노무비!#REF!
Name CELLNOTE10: [4]노무비!#REF!
Name CELLNOTE4: [5]노무비!#REF!
Name CELLNOTE4: [5]노무비!#REF!
Name CELLNOTE4: [5]노무비!#REF!
Name CELLNOTE5: [4]노무비!#REF!
Name CELLNOTE5: [4]노무비!#REF!
Name CELLNOTE5: [4]노무비!#REF!
Name CELLNOTE6: [5]노무비!#REF!
Name CELLNOTE6: [5]노무비!#REF!
Name CELLNOTE6: [5]노무비!#REF!
Name CELLNOTE8: [5]노무비!#REF!
Name CELLNOTE8: [5]노무비!#REF!
Name CELLNOTE8: [5]노무비!#REF!
Name cfdd: [4]노무비!#REF!
Name cfdd: [4]노무비!#REF!
Name cfdd: [4]노무비!#REF!
Name Cover: '[1]Facility Information'!$A$1:$H$27
Name CR: #REF!
Name CR: #REF!
Name CR: #REF!
Name CRa: #REF!
Name CRa: #REF!
Name CRa: #REF!
Name CRb: #REF!
Name CRb: #REF!
Name CRb: #REF!
Name ddd: #REF!
Name ddd: #REF!
Name ddd: #REF!
Name dddd: [5]노무비!#REF!
Name dddd: [5]노무비!#REF!
Name dddd: [5]노무비!#REF!
Name dhdhdh: '[3]인원계획-미화'!#REF!
Name dhdhdh: '[3]인원계획-미화'!#REF!
Name dhdhdh: '[3]인원계획-미화'!#REF!
Name FirstFinYearEnd: [6]재무가정!$H$13
Name General: [1]General!$A$1:$J$557
Name Graph: #REF!
Name Graph: #REF!
Name Graph: #REF!
Name hhh: '[3]인원계획-미화'!#REF!
Name hhh: '[3]인원계획-미화'!#REF!
Name hhh: '[3]인원계획-미화'!#REF!
Name hhhhhhhh: [5]노무비!#REF!
Name hhhhhhhh: [5]노무비!#REF!
Name hhhhhhhh: [5]노무비!#REF!
Name Instructions: [1]Instructions!$A$1:$C$67
Name kkkkk: '[7]인원계획-미화'!#REF!
Name kkkkk: '[7]인원계획-미화'!#REF!
Name kkkkk: '[7]인원계획-미화'!#REF!
Name kl: [5]노무비!#REF!

Sheet 2018년도
A1: 2018년도 청사 에너지 사용 현황
C3: =ROUND(#REF!/#REF!,3) -> #REF! | D3: =ROUND(#REF!/#REF!,3) -> #REF! | E3: =ROUND(#REF!/#REF!,3) -> #REF! | F3: =ROUND(#REF!/#REF!,3) -> #REF! | G3: =ROUND(#REF!/#REF!,3) -> #REF! | H3: =ROUND(#REF!/#REF!,3) -> #REF! | I3: =ROUND(#REF!/#REF!,3) -> #REF! | J3: =ROUND(#REF!/#REF!,3) -> #REF! | ... N3: =ROUND(#REF!/#REF!,3) -> #REF! | O3: =SUM(C3:N3) -> #REF!
C4: 0.073 | D4: 0.071 | E4: 0.073 | F4: 0.073 | G4: 0.075 | H4: 0.078 | I4: 0.116 | J4: 0.115 | K4: 0.085 | L4: 0.08 | M4: 0.08 | N4: 0.081 | O4: =SUM(C4:N4) -> 1
A5: 구 분 | C5: 1월 | D5: 2월 | E5: 3월 | F5: 4월 | G5: 5월 | H5: 6월 | I5: 7월 | J5: 8월 | K5: 9월 | L5: 10월 | M5: 11월 | N5: 12월 | O5: 합 계
A6: 일반전기 | B6: 사용량(kWh) | C6: 98677 | D6: 81062 | E6: 77287 | F6: 69355 | G6: 72606 | H6: 71488 | I6: 76568 | J6: 74233 | K6: 62700 | L6: 68345 | M6: 70980 | N6: 75530 | O6: =SUM(C6:N6) -> 898831 | S6: 969462
B7: 전년동월대비증감(%) | C7: 1.2493764 | D7: 1.0972117 | E7: 1.0333868 | F7: 1.0785655 | G7: 1.1962435 | H7: 1.0864273 | I7: 0.90294582 | J7: 0.6989464 | K7: 0.63173804 | L7: 0.79143314 | M7: 0.83310837 | N7: 0.84672989 | O7: =O6/S6 -> 0.92714413 | S7: 14.071091
A8: 심야전기 | B8: 사용량(kWh) | C8: 76699 | D8: 63336 | E8: 26827 | F8: 9451 | G8: 13310 | H8: 29890 | I8: 42792 | J8: 46819 | K8: 18302 | L8: 11361 | M8: 18158 | N8: 57168 | O8: =SUM(C8:N8) -> 414113 | S8: 427758
B9: 전년동월대비증감(%) | C9: 1.292687 | D9: 1.2754954 | E9: 0.84007641 | F9: 0.63741822 | G9: 0.72625089 | H9: 1.0203106 | I9: 1.0490807 | J9: 0.9883473 | K9: 0.74805853 | L9: 0.84317946 | M9: 0.58215511 | N9: 0.85205831 | O9: =O8/S8 -> 0.96810112 | S9: 13.992503
A10: 도시가스(주방) | B10: 사용량(㎥) | C10: 467.2647 | D10: 340.7346 | E10: 437.5074 | F10: 435.5142 | G10: 343.827 | H10: 378.708 | I10: 286.0242 | J10: 264.099 | K10: 225.2316 | L10: 312.9324 | M10: 371.7318 | N10: 390.6672 | O10: =SUM(C10:N10) -> 4254.2421 | S10: 3515.0282
B11: 전년동월대비증감(%) | C11: 2.201436 | D11: 1.7445478 | E11: 1.9260184 | F11: 2.2302632 | G11: 2.4650277 | H11: 1.9593527 | I11: 1.2374415 | J11: 0.54097917 | K11: 0.55681786 | L11: 0.99397009 | M11: 0.73303009 | N11: 0.96107362 | O11: =O10/S10 -> 1.210301 | S11: 18.140997
A12: 도시가스(기계실) | B12: 사용량(㎥) | C12: 1211.5008 | D12: 1042.1298 | E12: 1225.818 | F12: 1105.2294 | G12: 826.1814 | H12: 735.4908 | I12: 609.9192 | J12: 565.0722 | K12: 547.1334 | L12: 747.45 | M12: 878.0046 | N12: 931.821 | O12: =SUM(C12:N12) -> 10425.751 | S12: 9238.0662
B13: 전년동월대비증감(%) | C13: 1.3799727 | D13: 1.0649593 | E13: 1.2279145 | F13: 1.2989859 | G13: 1.1359584 | H13: 1.0561119 | I13: 1.1030347 | J13: 0.94686266 | K13: 0.87030953 | L13: 1.2178991 | M13: 1.056673 | N13: 1.0520602 | O13: =O12/S12 -> 1.1285642 | S13: 13.924912
A14: 상하수도 | B14: 사용량(㎥) | C14: 499 | D14: 336 | E14: 481 | F14: 675 | G14: 440 | H14: 925 | I14: 647 | J14: 1571 | K14: 354 | L14: 491 | M14: 483 | N14: 438 | O14: =SUM(C14:N14) -> 7340 | S14: 6283
B15: 전년동월대비증감(%) | C15: 1.6972789 | D15: 0.96 | E15: 1.2365039 | F15: 1.2295082 | G15: 0.44176707 | H15: 0.83258326 | I15: 1.5368171 | J15: 3.0038241 | K15: 0.77973568 | L15: 1.8118081 | M15: 0.90280374 | N15: 1.1230769 | O15: =O14/S14 -> 1.1682317 | S15: 14.202288

Sheet 2019년도
A1: 2019년도 청사 에너지 사용 현황
C3: =ROUND(#REF!/#REF!,3) -> #REF! | D3: =ROUND(#REF!/#REF!,3) -> #REF! | E3: =ROUND(#REF!/#REF!,3) -> #REF! | F3: =ROUND(#REF!/#REF!,3) -> #REF! | G3: =ROUND(#REF!/#REF!,3) -> #REF! | H3: =ROUND(#REF!/#REF!,3) -> #REF! | I3: =ROUND(#REF!/#REF!,3) -> #REF! | J3: =ROUND(#REF!/#REF!,3) -> #REF! | ... N3: =ROUND(#REF!/#REF!,3) -> #REF! | O3: =SUM(C3:N3) -> #REF!
C4: 0.073 | D4: 0.071 | E4: 0.073 | F4: 0.073 | G4: 0.075 | H4: 0.078 | I4: 0.116 | J4: 0.115 | K4: 0.085 | L4: 0.08 | M4: 0.08 | N4: 0.081 | O4: =SUM(C4:N4) -> 1
A5: 구 분 | C5: 1월 | D5: 2월 | E5: 3월 | F5: 4월 | G5: 5월 | H5: 6월 | I5: 7월 | J5: 8월 | K5: 9월 | L5: 10월 | M5: 11월 | N5: 12월 | O5: 합 계
A6: 일반전기 | B6: 사용량(kWh) | C6: 82165 | D6: 66230 | E6: 69553 | F6: 67540 | O6: =SUM(C6:N6) -> 285488
B7: 전년동월대비증감(%) | C7: =C6/'2018년도'!C6 -> 0.83266617 | D7: =D6/'2018년도'!D6 -> 0.81702894 | E7: =E6/'2018년도'!E6 -> 0.89993142 | F7: =F6/'2018년도'!F6 -> 0.97383029 | G7: =G6/'2018년도'!G6 -> 0 | H7: =H6/'2018년도'!H6 -> 0 | I7: =I6/'2018년도'!I6 -> 0 | J7: =J6/'2018년도'!J6 -> 0 | ... N7: =N6/'2018년도'!N6 -> 0 | O7: =O6/S7 -> 0.87470778 | S7: =SUM('2018년도'!C6:F6) -> 326381
A8: 심야전기 | B8: 사용량(kWh) | C8: 62323 | D8: 46560 | E8: 20683 | F8: 8045 | O8: =SUM(C8:N8) -> 137611
B9: 전년동월대비증감(%) | C9: =C8/'2018년도'!C8 -> 0.812566 | D9: =D8/'2018년도'!D8 -> 0.73512694 | E9: =E8/'2018년도'!E8 -> 0.770977 | F9: =F8/'2018년도'!F8 -> 0.85123267 | G9: =G8/'2018년도'!G8 -> 0 | H9: =H8/'2018년도'!H8 -> 0 | I9: =I8/'2018년도'!I8 -> 0 | J9: =J8/'2018년도'!J8 -> 0 | ... N9: =N8/'2018년도'!N8 -> 0 | O9: =O8/S9 -> 0.78049265 | S9: =SUM('2018년도'!C8:F8) -> 176313
A10: 도시가스(주방) | B10: 사용량(㎥) | C10: 357.779 | D10: 323.895 | E10: 323.895 | F10: 313.929 | O10: =SUM(C10:N10) -> 1319.498
B11: 전년동월대비증감(%) | C11: =C10/'2018년도'!C10 -> 0.76568806 | D11: =D10/'2018년도'!D10 -> 0.95057854 | E11: =E10/'2018년도'!E10 -> 0.74031891 | F11: =F10/'2018년도'!F10 -> 0.7208238 | G11: =G10/'2018년도'!G10 -> 0 | H11: =H10/'2018년도'!H10 -> 0 | I11: =I10/'2018년도'!I10 -> 0 | J11: =J10/'2018년도'!J10 -> 0 | ... N11: =N10/'2018년도'!N10 -> 0 | O11: =O10/S11 -> 0.78493849 | S11: =SUM('2018년도'!C10:F10) -> 1681.0209
A12: 도시가스(기계실) | B12: 사용량(㎥) | C12: 1179.974 | D12: 932.8176 | E12: 932.8176 | F12: 991.617 | O12: =SUM(C12:N12) -> 4037.2262
B13: 전년동월대비증감(%) | C13: =C12/'2018년도'!C12 -> 0.97397707 | D13: =D12/'2018년도'!D12 -> 0.89510692 | E13: =E12/'2018년도'!E12 -> 0.76097561 | F13: =F12/'2018년도'!F12 -> 0.89720469 | G13: =G12/'2018년도'!G12 -> 0 | H13: =H12/'2018년도'!H12 -> 0 | I13: =I12/'2018년도'!I12 -> 0 | J13: =J12/'2018년도'!J12 -> 0 | ... N13: =N12/'2018년도'!N12 -> 0 | O13: =O12/S13 -> 0.880591 | S13: =SUM('2018년도'!C12:F12) -> 4584.678
A14: 상하수도 | B14: 사용량(㎥) | C14: 438 | D14: 459 | E14: 417 | F14: 522 | O14: =SUM(C14:N14) -> 1836
B15: 전년동월대비증감(%) | C15: =C14/'2018년도'!C14 -> 0.87775551 | D15: =D14/'2018년도'!D14 -> 1.3660714 | E15: =E14/'2018년도'!E14 -> 0.86694387 | F15: =F14/'2018년도'!F14 -> 0.77333333 | G15: =G14/'2018년도'!G14 -> 0 | H15: =H14/'2018년도'!H14 -> 0 | I15: =I14/'2018년도'!I14 -> 0 | J15: =J14/'2018년도'!J14 -> 0 | ... N15: =N14/'2018년도'!N14 -> 0 | O15: =O14/S15 -> 0.92214967 | S15: =SUM('2018년도'!C14:F14) -> 1991

Sheet Sheet1
