Workbook
Name _: [1]Training!$J$1:$J$45
Name a: [2]노무비!#REF!
Name a: [2]노무비!#REF!
Name a: [2]노무비!#REF!
Name aaaa: '[3]인원계획-미화'!#REF!
Name aaaa: '[3]인원계획-미화'!#REF!
Name aaaa: '[3]인원계획-미화'!#REF!
Name CELLNOTE10: [4]노무비!#REF!
Name CELLNOTE10: [4]노무비!#REF!
Name CELLNOTE10: [4]노무비!#REF!
Name CELLNOTE4: [5]노무비!#REF!
Name CELLNOTE4: [5]노무비!#REF!
Name CELLNOTE4: [5]노무비!#REF!
Name CELLNOTE5: [4]노무비!#REF!
Name CELLNOTE5: [4]노무비!#REF!
Name CELLNOTE5: [4]노무비!#REF!
Name CELLNOTE6: [5]노무비!#REF!
Name CELLNOTE6: [5]노무비!#REF!
Name CELLNOTE6: [5]노무비!#REF!
Name CELLNOTE8: [5]노무비!#REF!
Name CELLNOTE8: [5]노무비!#REF!
Name CELLNOTE8: [5]노무비!#REF!
Name cfdd: [4]노무비!#REF!
Name cfdd: [4]노무비!#REF!
Name cfdd: [4]노무비!#REF!
Name Cover: '[1]Facility Information'!$A$1:$H$27
Name CR: #REF!
Name CR: #REF!
Name CR: #REF!
Name CRa: #REF!
Name CRa: #REF!
Name CRa: #REF!
Name CRb: #REF!
Name CRb: #REF!
Name CRb: #REF!
Name ddd: #REF!
Name ddd: #REF!
Name ddd: #REF!
Name dddd: [5]노무비!#REF!
Name dddd: [5]노무비!#REF!
Name dddd: [5]노무비!#REF!
Name dhdhdh: '[3]인원계획-미화'!#REF!
Name dhdhdh: '[3]인원계획-미화'!#REF!
Name dhdhdh: '[3]인원계획-미화'!#REF!
Name FirstFinYearEnd: [6]재무가정!$H$13
Name General: [1]General!$A$1:$J$557
Name Graph: #REF!
Name Graph: #REF!
Name Graph: #REF!
Name hhh: '[3]인원계획-미화'!#REF!
Name hhh: '[3]인원계획-미화'!#REF!
Name hhh: '[3]인원계획-미화'!#REF!
Name hhhhhhhh: [5]노무비!#REF!
Name hhhhhhhh: [5]노무비!#REF!
Name hhhhhhhh: [5]노무비!#REF!
Name Instructions: [1]Instructions!$A$1:$C$67
Name kkkkk: '[7]인원계획-미화'!#REF!
Name kkkkk: '[7]인원계획-미화'!#REF!
Name kkkkk: '[7]인원계획-미화'!#REF!
Name kl: [5]노무비!#REF!

Sheet 2019년도
A1: 2019년도 청사 에너지 사용 현황
C3: =ROUND(#REF!/#REF!,3) -> #REF! | D3: =ROUND(#REF!/#REF!,3) -> #REF! | E3: =ROUND(#REF!/#REF!,3) -> #REF! | F3: =ROUND(#REF!/#REF!,3) -> #REF! | G3: =ROUND(#REF!/#REF!,3) -> #REF! | H3: =ROUND(#REF!/#REF!,3) -> #REF! | I3: =ROUND(#REF!/#REF!,3) -> #REF! | J3: =ROUND(#REF!/#REF!,3) -> #REF! | ... N3: =ROUND(#REF!/#REF!,3) -> #REF! | O3: =SUM(C3:N3) -> #REF!
C4: 0.073 | D4: 0.071 | E4: 0.073 | F4: 0.073 | G4: 0.075 | H4: 0.078 | I4: 0.116 | J4: 0.115 | K4: 0.085 | L4: 0.08 | M4: 0.08 | N4: 0.081 | O4: =SUM(C4:N4) -> 1
A5: 구 분 | C5: 1월 | D5: 2월 | E5: 3월 | F5: 4월 | G5: 5월 | H5: 6월 | I5: 7월 | J5: 8월 | K5: 9월 | L5: 10월 | M5: 11월 | N5: 12월 | O5: 합 계
A6: 일반전기 | B6: 사용량(kWh) | C6: 82165 | D6: 66230 | E6: 69553 | F6: 67540 | G6: 65293 | H6: 64665 | I6: 73656 | J6: 73560 | K6: 74525 | L6: 77019 | M6: 70371 | N6: 76918 | O6: 861495 | S6: 969462
B7: 전년동월대비증감(%) | C7: 0.83266617 | D7: 0.81702894 | E7: 0.89993142 | F7: 0.97383029 | G7: 0.8992783 | H7: 0.90455741 | I7: 0.96196845 | J7: 0.99093395 | K7: 1.1885965 | L7: 1.1269149 | M7: 0.99142012 | N7: 1.0183768 | O7: 0.9584616 | S7: 14.071091
A8: 심야전기 | B8: 사용량(kWh) | C8: 62323 | D8: 46560 | E8: 20683 | F8: 8045 | G8: 11155 | H8: 26827 | I8: 37027 | J8: 44472 | K8: 20294 | L8: 11832 | M8: 20914 | N8: 53750 | O8: 363882 | S8: 427758
B9: 전년동월대비증감(%) | C9: 0.812566 | D9: 0.73512694 | E9: 0.770977 | F9: 0.85123267 | G9: 0.83809166 | H9: 0.89752426 | I9: 0.86527856 | J9: 0.94987078 | K9: 1.1088406 | L9: 1.0414576 | M9: 1.1517788 | N9: 0.94021131 | O9: 0.87870219 | S9: 13.992503
A10: 도시가스(주방) | B10: 사용량(㎥) | C10: 357.779 | D10: 323.895 | E10: 330.8712 | F10: 313.929 | G10: 290.0106 | H10: 311.9358 | I10: 312.9324 | J10: 415.8522 | K10: 351.7998 | L10: 330.8712 | M10: 335.8542 | N10: 244.167 | O10: 3919.8974 | S10: 3515.0282
B11: 전년동월대비증감(%) | C11: 0.76568806 | D11: 0.95057854 | E11: 0.75626424 | F11: 0.7208238 | G11: 0.84347826 | H11: 0.82368421 | I11: 1.0940767 | J11: 1.5746072 | K11: 1.5619469 | L11: 1.0573248 | M11: 0.90348525 | N11: 0.625 | O11: 0.9214091 | S11: 18.140997
A12: 도시가스(기계실) | B12: 사용량(㎥) | C12: 1179.974 | D12: 932.8176 | E12: 1065.3864 | F12: 991.617 | G12: 896.94 | H12: 766.3854 | I12: 716.5554 | J12: 615.8988 | K12: 572.0484 | L12: 705.5928 | M12: 742.467 | N12: 960.7224 | O12: 10146.405 | S12: 9238.0662
B13: 전년동월대비증감(%) | C13: 0.97397707 | D13: 0.89510692 | E13: 0.86912282 | F13: 0.89720469 | G13: 1.0856454 | H13: 1.0420054 | I13: 1.1748366 | J13: 1.0899471 | K13: 1.0455373 | L13: 0.944 | M13: 0.84562997 | N13: 1.031016 | O13: 0.97320621 | S13: 13.924912
A14: 상하수도 | B14: 사용량(㎥) | C14: 438 | D14: 459 | E14: 417 | F14: 522 | G14: 562 | H14: 537 | I14: 580 | J14: 547 | K14: 468 | L14: 852 | M14: 544 | N14: 469 | O14: 6395 | S14: 6283
B15: 전년동월대비증감(%) | C15: 0.87775551 | D15: 1.3660714 | E15: 0.86694387 | F15: 0.77333333 | G15: 1.2772727 | H15: 0.58054054 | I15: 0.89644513 | J15: 0.34818587 | K15: 1.3220339 | L15: 1.7352342 | M15: 1.126294 | N15: 1.0707763 | O15: 0.87125341 | S15: 14.202288

Sheet 2020년도
A1: 2020년도 청사 에너지 사용 현황
C3: =ROUND(#REF!/#REF!,3) -> #REF! | D3: =ROUND(#REF!/#REF!,3) -> #REF! | E3: =ROUND(#REF!/#REF!,3) -> #REF! | F3: =ROUND(#REF!/#REF!,3) -> #REF! | G3: =ROUND(#REF!/#REF!,3) -> #REF! | H3: =ROUND(#REF!/#REF!,3) -> #REF! | I3: =ROUND(#REF!/#REF!,3) -> #REF! | J3: =ROUND(#REF!/#REF!,3) -> #REF! | ... N3: =ROUND(#REF!/#REF!,3) -> #REF! | O3: =SUM(C3:N3) -> #REF!
C4: 0.073 | D4: 0.071 | E4: 0.073 | F4: 0.073 | G4: 0.075 | H4: 0.078 | I4: 0.116 | J4: 0.115 | K4: 0.085 | L4: 0.08 | M4: 0.08 | N4: 0.081 | O4: =SUM(C4:N4) -> 1
A5: 구 분 | C5: 1월 | D5: 2월 | E5: 3월 | F5: 4월 | G5: 5월 | H5: 6월 | I5: 7월 | J5: 8월 | K5: 9월 | L5: 10월 | M5: 11월 | N5: 12월 | O5: 합 계
A6: 일반전기 | B6: 사용량(kWh) | C6: 74107 | O6: =SUM(C6:N6) -> 74107
B7: 전년동월대비증감(%) | C7: =C6/'2019년도'!C6 -> 0.90192905 | D7: =D6/'2019년도'!D6 -> 0 | E7: =E6/'2019년도'!E6 -> 0 | F7: =F6/'2019년도'!F6 -> 0 | G7: =G6/'2019년도'!G6 -> 0 | H7: =H6/'2019년도'!H6 -> 0 | I7: =I6/'2019년도'!I6 -> 0 | J7: =J6/'2019년도'!J6 -> 0 | ... N7: =N6/'2019년도'!N6 -> 0 | O7: =O6/S7 -> 0.90192905 | S7: =SUM('2019년도'!C6:C6) -> 82165
A8: 심야전기 | B8: 사용량(kWh) | C8: 46820 | O8: =SUM(C8:N8) -> 46820
B9: 전년동월대비증감(%) | C9: =C8/'2019년도'!C8 -> 0.75124753 | D9: =D8/'2019년도'!D8 -> 0 | E9: =E8/'2019년도'!E8 -> 0 | F9: =F8/'2019년도'!F8 -> 0 | G9: =G8/'2019년도'!G8 -> 0 | H9: =H8/'2019년도'!H8 -> 0 | I9: =I8/'2019년도'!I8 -> 0 | J9: =J8/'2019년도'!J8 -> 0 | ... N9: =N8/'2019년도'!N8 -> 0 | O9: =O8/S9 -> 0.75124753 | S9: =SUM('2019년도'!C8:C8) -> 62323
A10: 도시가스(주방) | B10: 사용량(㎥) | C10: 268.0854 | O10: =SUM(C10:N10) -> 268.0854
B11: 전년동월대비증감(%) | C11: =C10/'2019년도'!C10 -> 0.74930446 | D11: =D10/'2019년도'!D10 -> 0 | E11: =E10/'2019년도'!E10 -> 0 | F11: =F10/'2019년도'!F10 -> 0 | G11: =G10/'2019년도'!G10 -> 0 | H11: =H10/'2019년도'!H10 -> 0 | I11: =I10/'2019년도'!I10 -> 0 | J11: =J10/'2019년도'!J10 -> 0 | ... N11: =N10/'2019년도'!N10 -> 0 | O11: =O10/S11 -> 0.74930446 | S11: =SUM('2019년도'!C10:C10) -> 357.779
A12: 도시가스(기계실) | B12: 사용량(㎥) | C12: 1282.6242 | O12: =SUM(C12:N12) -> 1282.6242
B13: 전년동월대비증감(%) | C13: =C12/'2019년도'!C12 -> 1.0869936 | D13: =D12/'2019년도'!D12 -> 0 | E13: =E12/'2019년도'!E12 -> 0 | F13: =F12/'2019년도'!F12 -> 0 | G13: =G12/'2019년도'!G12 -> 0 | H13: =H12/'2019년도'!H12 -> 0 | I13: =I12/'2019년도'!I12 -> 0 | J13: =J12/'2019년도'!J12 -> 0 | ... N13: =N12/'2019년도'!N12 -> 0 | O13: =O12/S13 -> 1.0869936 | S13: =SUM('2019년도'!C12:C12) -> 1179.974
A14: 상하수도 | B14: 사용량(㎥) | C14: 413 | O14: =SUM(C14:N14) -> 413
B15: 전년동월대비증감(%) | C15: =C14/'2019년도'!C14 -> 0.94292237 | D15: =D14/'2019년도'!D14 -> 0 | E15: =E14/'2019년도'!E14 -> 0 | F15: =F14/'2019년도'!F14 -> 0 | G15: =G14/'2019년도'!G14 -> 0 | H15: =H14/'2019년도'!H14 -> 0 | I15: =I14/'2019년도'!I14 -> 0 | J15: =J14/'2019년도'!J14 -> 0 | ... N15: =N14/'2019년도'!N14 -> 0 | O15: =O14/S15 -> 0.94292237 | S15: =SUM('2019년도'!C14:C14) -> 438

Sheet Sheet1
