Workbook
Name _: [1]Training!$J$1:$J$45
Name a: [2]노무비!#REF!
Name a: [2]노무비!#REF!
Name a: [2]노무비!#REF!
Name aaaa: '[3]인원계획-미화'!#REF!
Name aaaa: '[3]인원계획-미화'!#REF!
Name aaaa: '[3]인원계획-미화'!#REF!
Name CELLNOTE10: [4]노무비!#REF!
Name CELLNOTE10: [4]노무비!#REF!
Name CELLNOTE10: [4]노무비!#REF!
Name CELLNOTE4: [5]노무비!#REF!
Name CELLNOTE4: [5]노무비!#REF!
Name CELLNOTE4: [5]노무비!#REF!
Name CELLNOTE5: [4]노무비!#REF!
Name CELLNOTE5: [4]노무비!#REF!
Name CELLNOTE5: [4]노무비!#REF!
Name CELLNOTE6: [5]노무비!#REF!
Name CELLNOTE6: [5]노무비!#REF!
Name CELLNOTE6: [5]노무비!#REF!
Name CELLNOTE8: [5]노무비!#REF!
Name CELLNOTE8: [5]노무비!#REF!
Name CELLNOTE8: [5]노무비!#REF!
Name cfdd: [4]노무비!#REF!
Name cfdd: [4]노무비!#REF!
Name cfdd: [4]노무비!#REF!
Name Cover: '[1]Facility Information'!$A$1:$H$27
Name CR: #REF!
Name CR: #REF!
Name CR: #REF!
Name CRa: #REF!
Name CRa: #REF!
Name CRa: #REF!
Name CRb: #REF!
Name CRb: #REF!
Name CRb: #REF!
Name ddd: #REF!
Name ddd: #REF!
Name ddd: #REF!
Name dddd: [5]노무비!#REF!
Name dddd: [5]노무비!#REF!
Name dddd: [5]노무비!#REF!
Name dhdhdh: '[3]인원계획-미화'!#REF!
Name dhdhdh: '[3]인원계획-미화'!#REF!
Name dhdhdh: '[3]인원계획-미화'!#REF!
Name FirstFinYearEnd: [6]재무가정!$H$13
Name General: [1]General!$A$1:$J$557
Name Graph: #REF!
Name Graph: #REF!
Name Graph: #REF!
Name hhh: '[3]인원계획-미화'!#REF!
Name hhh: '[3]인원계획-미화'!#REF!
Name hhh: '[3]인원계획-미화'!#REF!
Name hhhhhhhh: [5]노무비!#REF!
Name hhhhhhhh: [5]노무비!#REF!
Name hhhhhhhh: [5]노무비!#REF!
Name Instructions: [1]Instructions!$A$1:$C$67
Name kkkkk: '[7]인원계획-미화'!#REF!
Name kkkkk: '[7]인원계획-미화'!#REF!
Name kkkkk: '[7]인원계획-미화'!#REF!
Name kl: [5]노무비!#REF!

Sheet 2020년도
A1: 2019년도 청사 에너지 사용 현황
C3: =ROUND(#REF!/#REF!,3) -> #REF! | D3: =ROUND(#REF!/#REF!,3) -> #REF! | E3: =ROUND(#REF!/#REF!,3) -> #REF! | F3: =ROUND(#REF!/#REF!,3) -> #REF! | G3: =ROUND(#REF!/#REF!,3) -> #REF! | H3: =ROUND(#REF!/#REF!,3) -> #REF! | I3: =ROUND(#REF!/#REF!,3) -> #REF! | J3: =ROUND(#REF!/#REF!,3) -> #REF! | ... N3: =ROUND(#REF!/#REF!,3) -> #REF! | O3: =SUM(C3:N3) -> #REF!
C4: 0.073 | D4: 0.071 | E4: 0.073 | F4: 0.073 | G4: 0.075 | H4: 0.078 | I4: 0.116 | J4: 0.115 | K4: 0.085 | L4: 0.08 | M4: 0.08 | N4: 0.081 | O4: =SUM(C4:N4) -> 1
A5: 구 분 | C5: 1월 | D5: 2월 | E5: 3월 | F5: 4월 | G5: 5월 | H5: 6월 | I5: 7월 | J5: 8월 | K5: 9월 | L5: 10월 | M5: 11월 | N5: 12월 | O5: 합 계
A6: 일반전기 | B6: 사용량(kWh) | C6: 74107 | D6: 70095 | E6: 68240 | F6: 63435 | G6: 64717 | H6: 70807 | I6: 73705 | J6: 72669 | K6: 67742 | L6: 65892 | M6: 66115 | N6: 68768 | O6: 826292 | S6: 969462
B7: 전년동월대비증감(%) | C7: 0.90192905 | D7: 1.0583572 | E7: 0.98112231 | F7: 0.9392212 | G7: 0.99117823 | H7: 1.0949818 | I7: 1.0006653 | J7: 0.98788744 | K7: 0.90898356 | L7: 0.85552916 | M7: 0.93952054 | N7: 0.89404301 | O7: 1.09078 | S7: 14.071091
A8: 심야전기 | B8: 사용량(kWh) | C8: 46820 | D8: 41155 | E8: 19252 | F8: 8793 | G8: 18375 | H8: 34320 | I8: 36149 | J8: 39192 | K8: 30859 | L8: 16056 | M8: 21115 | N8: 55603 | O8: 367689 | S8: 427758
B9: 전년동월대비증감(%) | C9: 0.75124753 | D9: 0.88391323 | E9: 0.93081274 | F9: 1.092977 | G9: 1.6472434 | H9: 1.2793082 | I9: 0.97628757 | J9: 0.88127361 | K9: 1.5205972 | L9: 1.356998 | M9: 1.0096108 | N9: 1.0344744 | O9: 1.1781656 | S9: 13.992503
A10: 도시가스(주방) | B10: 사용량(㎥) | C10: 268.0854 | D10: 299.9766 | E10: 318.784 | F10: 269.9702 | G10: 289.8942 | H10: 295.8714 | I10: 298.86 | J10: 232.1146 | K10: 165.3692 | L10: 186.2894 | M10: 245.0652 | N10: 229.126 | O10: 3099.4062 | S10: 3515.0282
B11: 전년동월대비증감(%) | C11: 0.74930446 | D11: 0.92615385 | E11: 0.96346856 | F11: 0.85997216 | G11: 0.99959864 | H11: 0.94850094 | I11: 0.95503054 | J11: 0.5581661 | K11: 0.47006621 | L11: 0.56302694 | M11: 0.72967734 | N11: 0.93839872 | O11: 1.079827 | S11: 18.140997
A12: 도시가스(기계실) | B12: 사용량(㎥) | C12: 1282.6242 | D12: 1321.4916 | E12: 1361.8054 | F12: 1084.8618 | G12: 1103.7896 | H12: 1156.5882 | I12: 1096.8162 | J12: 828.8384 | K12: 778.0322 | L12: 947.3862 | M12: 1035.0518 | N12: 1146.6262 | O12: 13143.912 | S12: 9238.0662
B13: 전년동월대비증감(%) | C13: 1.0869936 | D13: 1.4166667 | E13: 1.2782268 | F13: 1.0940331 | G13: 1.230617 | H13: 1.509147 | I13: 1.5306789 | J13: 1.345738 | K13: 1.3600811 | L13: 1.3426812 | M13: 1.3940711 | N13: 1.1935042 | O13: 1.0955738 | S13: 13.924912
A14: 상하수도 | B14: 사용량(㎥) | C14: 413 | D14: 533 | E14: 455 | F14: 637 | G14: 433 | H14: 557 | I14: 546 | J14: 475 | K14: 321 | L14: 492 | M14: 430 | N14: 361 | O14: 5653 | S14: 6283
B15: 전년동월대비증감(%) | C15: 0.94292237 | D15: 1.16122 | E15: 1.0911271 | F15: 1.2203065 | G15: 0.77046263 | H15: 1.0372439 | I15: 0.94137931 | J15: 0.86837294 | K15: 0.68589744 | L15: 0.57746479 | M15: 0.79044118 | N15: 0.76972281 | O15: 1.0682162 | S15: 14.202288

Sheet 2021년도
A1: 2021년도 청사 에너지 사용 현황
C3: =ROUND(#REF!/#REF!,3) -> #REF! | D3: =ROUND(#REF!/#REF!,3) -> #REF! | E3: =ROUND(#REF!/#REF!,3) -> #REF! | F3: =ROUND(#REF!/#REF!,3) -> #REF! | G3: =ROUND(#REF!/#REF!,3) -> #REF! | H3: =ROUND(#REF!/#REF!,3) -> #REF! | I3: =ROUND(#REF!/#REF!,3) -> #REF! | J3: =ROUND(#REF!/#REF!,3) -> #REF! | ... N3: =ROUND(#REF!/#REF!,3) -> #REF! | O3: =SUM(C3:N3) -> #REF!
C4: 0.073 | D4: 0.071 | E4: 0.073 | F4: 0.073 | G4: 0.075 | H4: 0.078 | I4: 0.116 | J4: 0.115 | K4: 0.085 | L4: 0.08 | M4: 0.08 | N4: 0.081 | O4: =SUM(C4:N4) -> 1
A5: 구 분 | C5: 1 월 | D5: 2 월 | E5: 3 월 | F5: 4 월 | G5: 5 월 | H5: 6 월 | I5: 7 월 | J5: 8 월 | K5: 9 월 | L5: 10 월 | M5: 11 월 | N5: 12 월 | O5: 합 계
A6: 일반전기 | B6: 사용량(kWh) | C6: 69244 | O6: =SUM(C6:N6) -> 69244
B7: 전년동월대비증감(%) | C7: =C6/'2020년도'!C6 -> 0.93437867 | D7: =D6/'2020년도'!D6 -> 0 | E7: =E6/'2020년도'!E6 -> 0 | F7: =F6/'2020년도'!F6 -> 0 | G7: =G6/'2020년도'!G6 -> 0 | H7: =H6/'2020년도'!H6 -> 0 | I7: =I6/'2020년도'!I6 -> 0 | J7: =J6/'2020년도'!J6 -> 0 | ... N7: =N6/'2020년도'!N6 -> 0 | O7: =O6/S7 -> 0.93437867 | S7: =SUM('2020년도'!C6:C6) -> 74107
A8: 심야전기 | B8: 사용량(kWh) | C8: 66393 | O8: =SUM(C8:N8) -> 66393
B9: 전년동월대비증감(%) | C9: =C8/'2020년도'!C8 -> 1.4180478 | D9: =D8/'2020년도'!D8 -> 0 | E9: =E8/'2020년도'!E8 -> 0 | F9: =F8/'2020년도'!F8 -> 0 | G9: =G8/'2020년도'!G8 -> 0 | H9: =H8/'2020년도'!H8 -> 0 | I9: =I8/'2020년도'!I8 -> 0 | J9: =J8/'2020년도'!J8 -> 0 | ... N9: =N8/'2020년도'!N8 -> 0 | O9: =O8/S9 -> 1.4180478 | S9: =SUM('2020년도'!C8:C8) -> 46820
A10: 도시가스(주방) | B10: 사용량(㎥) | C10: 231.1184 | O10: =SUM(C10:N10) -> 231.1184
B11: 전년동월대비증감(%) | C11: =C10/'2020년도'!C10 -> 0.86210737 | D11: =D10/'2020년도'!D10 -> 0 | E11: =E10/'2020년도'!E10 -> 0 | F11: =F10/'2020년도'!F10 -> 0 | G11: =G10/'2020년도'!G10 -> 0 | H11: =H10/'2020년도'!H10 -> 0 | I11: =I10/'2020년도'!I10 -> 0 | J11: =J10/'2020년도'!J10 -> 0 | ... N11: =N10/'2020년도'!N10 -> 0 | O11: =O10/S11 -> 0.86210737 | S11: =SUM('2020년도'!C10:C10) -> 268.0854
A12: 도시가스(기계실) | B12: 사용량(㎥) | C12: 1130.687 | O12: =SUM(C12:N12) -> 1130.687
B13: 전년동월대비증감(%) | C13: =C12/'2020년도'!C12 -> 0.88154192 | D13: =D12/'2020년도'!D12 -> 0 | E13: =E12/'2020년도'!E12 -> 0 | F13: =F12/'2020년도'!F12 -> 0 | G13: =G12/'2020년도'!G12 -> 0 | H13: =H12/'2020년도'!H12 -> 0 | I13: =I12/'2020년도'!I12 -> 0 | J13: =J12/'2020년도'!J12 -> 0 | ... N13: =N12/'2020년도'!N12 -> 0 | O13: =O12/S13 -> 0.88154192 | S13: =SUM('2020년도'!C12:C12) -> 1282.6242
A14: 상하수도 | B14: 사용량(㎥) | C14: 305 | O14: =SUM(C14:N14) -> 305
B15: 전년동월대비증감(%) | C15: =C14/'2020년도'!C14 -> 0.73849879 | D15: =D14/'2020년도'!D14 -> 0 | E15: =E14/'2020년도'!E14 -> 0 | F15: =F14/'2020년도'!F14 -> 0 | G15: =G14/'2020년도'!G14 -> 0 | H15: =H14/'2020년도'!H14 -> 0 | I15: =I14/'2020년도'!I14 -> 0 | J15: =J14/'2020년도'!J14 -> 0 | ... N15: =N14/'2020년도'!N14 -> 0 | O15: =O14/S15 -> 0.73849879 | S15: =SUM('2020년도'!C14:C14) -> 413

Sheet Sheet1
