Workbook
Name _: [1]Training!$J$1:$J$45
Name a: [2]노무비!#REF!
Name a: [2]노무비!#REF!
Name a: [2]노무비!#REF!
Name aaaa: '[3]인원계획-미화'!#REF!
Name aaaa: '[3]인원계획-미화'!#REF!
Name aaaa: '[3]인원계획-미화'!#REF!
Name CELLNOTE10: [4]노무비!#REF!
Name CELLNOTE10: [4]노무비!#REF!
Name CELLNOTE10: [4]노무비!#REF!
Name CELLNOTE4: [5]노무비!#REF!
Name CELLNOTE4: [5]노무비!#REF!
Name CELLNOTE4: [5]노무비!#REF!
Name CELLNOTE5: [4]노무비!#REF!
Name CELLNOTE5: [4]노무비!#REF!
Name CELLNOTE5: [4]노무비!#REF!
Name CELLNOTE6: [5]노무비!#REF!
Name CELLNOTE6: [5]노무비!#REF!
Name CELLNOTE6: [5]노무비!#REF!
Name CELLNOTE8: [5]노무비!#REF!
Name CELLNOTE8: [5]노무비!#REF!
Name CELLNOTE8: [5]노무비!#REF!
Name cfdd: [4]노무비!#REF!
Name cfdd: [4]노무비!#REF!
Name cfdd: [4]노무비!#REF!
Name Cover: '[1]Facility Information'!$A$1:$H$27
Name CR: #REF!
Name CR: #REF!
Name CR: #REF!
Name CRa: #REF!
Name CRa: #REF!
Name CRa: #REF!
Name CRb: #REF!
Name CRb: #REF!
Name CRb: #REF!
Name ddd: #REF!
Name ddd: #REF!
Name ddd: #REF!
Name dddd: [5]노무비!#REF!
Name dddd: [5]노무비!#REF!
Name dddd: [5]노무비!#REF!
Name dhdhdh: '[3]인원계획-미화'!#REF!
Name dhdhdh: '[3]인원계획-미화'!#REF!
Name dhdhdh: '[3]인원계획-미화'!#REF!
Name FirstFinYearEnd: [6]재무가정!$H$13
Name General: [1]General!$A$1:$J$557
Name Graph: #REF!
Name Graph: #REF!
Name Graph: #REF!
Name hhh: '[3]인원계획-미화'!#REF!
Name hhh: '[3]인원계획-미화'!#REF!
Name hhh: '[3]인원계획-미화'!#REF!
Name hhhhhhhh: [5]노무비!#REF!
Name hhhhhhhh: [5]노무비!#REF!
Name hhhhhhhh: [5]노무비!#REF!
Name Instructions: [1]Instructions!$A$1:$C$67
Name kkkkk: '[7]인원계획-미화'!#REF!
Name kkkkk: '[7]인원계획-미화'!#REF!
Name kkkkk: '[7]인원계획-미화'!#REF!
Name kl: [5]노무비!#REF!

Sheet 2021년도
A1: 2021년도 청사 에너지 사용 현황
C3: =ROUND(#REF!/#REF!,3) -> #REF! | D3: =ROUND(#REF!/#REF!,3) -> #REF! | E3: =ROUND(#REF!/#REF!,3) -> #REF! | F3: =ROUND(#REF!/#REF!,3) -> #REF! | G3: =ROUND(#REF!/#REF!,3) -> #REF! | H3: =ROUND(#REF!/#REF!,3) -> #REF! | I3: =ROUND(#REF!/#REF!,3) -> #REF! | J3: =ROUND(#REF!/#REF!,3) -> #REF! | ... N3: =ROUND(#REF!/#REF!,3) -> #REF! | O3: =SUM(C3:N3) -> #REF!
C4: 0.073 | D4: 0.071 | E4: 0.073 | F4: 0.073 | G4: 0.075 | H4: 0.078 | I4: 0.116 | J4: 0.115 | K4: 0.085 | L4: 0.08 | M4: 0.08 | N4: 0.081 | O4: =SUM(C4:N4) -> 1
A5: 구 분 | C5: 1 월 | D5: 2 월 | E5: 3 월 | F5: 4 월 | G5: 5 월 | H5: 6 월 | I5: 7 월 | J5: 8 월 | K5: 9 월 | L5: 10 월 | M5: 11 월 | N5: 12 월 | O5: 합 계
A6: 일반전기 | B6: 사용량(kWh) | C6: 69244 | D6: 61588 | E6: 68306 | F6: 64049 | G6: 60871 | H6: 65670 | I6: 73399 | J6: 70052 | K6: 64852 | L6: 65675 | M6: 63804 | N6: 74387 | O6: =SUM(C6:N6) -> 801897
B7: 전년동월대비증감(%) | C7: 0.93437867 | D7: 0.87863614 | E7: 1.0009672 | F7: 1.0096792 | G7: 0.94057203 | H7: 0.92745068 | I7: 0.99584831 | J7: 0.96398739 | K7: 0.95733814 | L7: 0.99670673 | M7: 0.96504575 | N7: 1.0817095 | O7: 0.97047654 | S7: =SUM(#REF!) -> #REF!
A8: 심야전기 | B8: 사용량(kWh) | C8: 66393 | D8: 44601 | E8: 14343 | F8: 15860 | G8: 17001 | H8: 30883 | I8: 44904 | J8: 39917 | K8: 22239 | L8: 17222 | M8: 21235 | N8: 55953 | O8: =SUM(C8:N8) -> 390551
B9: 전년동월대비증감(%) | C9: 1.4180478 | D9: 1.0837322 | E9: 0.74501351 | F9: 1.8037075 | G9: 0.92522449 | H9: 0.89985431 | I9: 1.242192 | J9: 1.0184987 | K9: 0.72066496 | L9: 1.0726208 | M9: 1.0056832 | N9: 1.0062946 | O9: 1.0621775 | S9: =SUM(#REF!) -> #REF!
A10: 도시가스(주방) | B10: 사용량(㎥) | C10: 231.1184 | D10: 172.3426 | E10: 214.183 | F10: 201.0506 | G10: 188.1117 | H10: 161.2386 | I10: 10 | J10: 3.9812 | K10: 0 | L10: 0 | M10: 201.0506 | N10: 210 | O10: =SUM(C10:N10) -> 1593.0767
B11: 전년동월대비증감(%) | C11: 0.86210737 | D11: 0.57452015 | E11: 0.671875 | F11: 0.74471405 | G11: 0.64889777 | H11: 0.54496176 | I11: 0.033460483 | J11: 0.017151872 | K11: 0 | L11: 0 | M11: 0.82039637 | N11: 0.91652628 | O11: 0.51399416 | S11: =SUM(#REF!) -> #REF!
A12: 도시가스(기계실) | B12: 사용량(㎥) | C12: 1130.687 | D12: 1090.839 | E12: 1341.8814 | F12: 1149.5715 | G12: 1137.6279 | H12: 972.4081 | I12: 782 | J12: 747.4703 | K12: 729.5549 | L12: 766.381 | M12: 1072.9334 | N12: 1156 | O12: =SUM(C12:N12) -> 12077.354
B13: 전년동월대비증감(%) | C13: 0.88154192 | D13: 0.82546041 | E13: 0.98536942 | F13: 1.0596479 | G13: 1.0306565 | H13: 0.84075568 | I13: 0.71297269 | J13: 0.90182875 | K13: 0.93769242 | L13: 0.80894254 | M13: 1.0365987 | N13: 1.0081751 | O13: 0.91885541 | S13: =SUM(#REF!) -> #REF!
A14: 상하수도 | B14: 사용량(㎥) | C14: 305 | D14: 365 | E14: 421 | F14: 784 | G14: 386 | H14: 414 | I14: 343 | J14: 300 | K14: 272 | L14: 387 | M14: 395 | N14: 375 | O14: =SUM(C14:N14) -> 4747
B15: 전년동월대비증감(%) | C15: 0.73849879 | D15: 0.684803 | E15: 0.92527473 | F15: 1.2307692 | G15: 0.89145497 | H15: 0.7432675 | I15: 0.62820513 | J15: 0.63157895 | K15: 0.84735202 | L15: 0.78658537 | M15: 0.91860465 | N15: 1.0387812 | O15: 0.83973112 | S15: =SUM(#REF!) -> #REF!

Sheet 2022년도
A1: 2022년도 청사 에너지 사용 현황
C3: =ROUND(#REF!/#REF!,3) -> #REF! | D3: =ROUND(#REF!/#REF!,3) -> #REF! | E3: =ROUND(#REF!/#REF!,3) -> #REF! | F3: =ROUND(#REF!/#REF!,3) -> #REF! | G3: =ROUND(#REF!/#REF!,3) -> #REF! | H3: =ROUND(#REF!/#REF!,3) -> #REF! | I3: =ROUND(#REF!/#REF!,3) -> #REF! | J3: =ROUND(#REF!/#REF!,3) -> #REF! | ... N3: =ROUND(#REF!/#REF!,3) -> #REF! | O3: =SUM(C3:N3) -> #REF!
C4: 0.073 | D4: 0.071 | E4: 0.073 | F4: 0.073 | G4: 0.075 | H4: 0.078 | I4: 0.116 | J4: 0.115 | K4: 0.085 | L4: 0.08 | M4: 0.08 | N4: 0.081 | O4: =SUM(C4:N4) -> 1
A5: 구 분 | C5: 1 월 | D5: 2 월 | E5: 3 월 | F5: 4 월 | G5: 5 월 | H5: 6 월 | I5: 7 월 | J5: 8 월 | K5: 9 월 | L5: 10 월 | M5: 11 월 | N5: 12 월 | O5: 합 계
A6: 일반전기 | B6: 사용량(kWh) | C6: 74348 | O6: =SUM(C6:N6) -> 74348
B7: 전년동월대비증감(%) | C7: =C6/'2021년도'!C6 -> 1.0737104 | D7: =D6/'2021년도'!D6 -> 0 | E7: =E6/'2021년도'!E6 -> 0 | F7: =F6/'2021년도'!F6 -> 0 | G7: =G6/'2021년도'!G6 -> 0 | H7: =H6/'2021년도'!H6 -> 0 | I7: =I6/'2021년도'!I6 -> 0 | J7: =J6/'2021년도'!J6 -> 0 | ... N7: =N6/'2021년도'!N6 -> 0 | O7: =O6/S7 -> 1.0737104 | S7: =SUM('2021년도'!C6:C6) -> 69244
A8: 심야전기 | B8: 사용량(kWh) | C8: 57360 | O8: =SUM(C8:N8) -> 57360
B9: 전년동월대비증감(%) | C9: =C8/'2021년도'!C8 -> 0.8639465 | D9: =D8/'2021년도'!D8 -> 0 | E9: =E8/'2021년도'!E8 -> 0 | F9: =F8/'2021년도'!F8 -> 0 | G9: =G8/'2021년도'!G8 -> 0 | H9: =H8/'2021년도'!H8 -> 0 | I9: =I8/'2021년도'!I8 -> 0 | J9: =J8/'2021년도'!J8 -> 0 | ... N9: =N8/'2021년도'!N8 -> 0 | O9: =O8/S9 -> 0.8639465 | S9: =SUM('2021년도'!C8:C8) -> 66393
A10: 도시가스(주방) | B10: 사용량(㎥) | C10: 217.9707 | O10: =SUM(C10:N10) -> 217.9707
B11: 전년동월대비증감(%) | C11: =C10/'2021년도'!C10 -> 0.94311271 | D11: =D10/'2021년도'!D10 -> 0 | E11: =E10/'2021년도'!E10 -> 0 | F11: =F10/'2021년도'!F10 -> 0 | G11: =G10/'2021년도'!G10 -> 0 | H11: =H10/'2021년도'!H10 -> 0 | I11: =I10/'2021년도'!I10 -> 0 | J11: =J10/'2021년도'!J10 -> 0 | ... N11: =N10/'2021년도'!N10 -> 0 | O11: =O10/S11 -> 0.94311271 | S11: =SUM('2021년도'!C10:C10) -> 231.1184
A12: 도시가스(기계실) | B12: 사용량(㎥) | C12: 1161.5151 | O12: =SUM(C12:N12) -> 1161.5151
B13: 전년동월대비증감(%) | C13: =C12/'2021년도'!C12 -> 1.0272649 | D13: =D12/'2021년도'!D12 -> 0 | E13: =E12/'2021년도'!E12 -> 0 | F13: =F12/'2021년도'!F12 -> 0 | G13: =G12/'2021년도'!G12 -> 0 | H13: =H12/'2021년도'!H12 -> 0 | I13: =I12/'2021년도'!I12 -> 0 | J13: =J12/'2021년도'!J12 -> 0 | ... N13: =N12/'2021년도'!N12 -> 0 | O13: =O12/S13 -> 1.0272649 | S13: =SUM('2021년도'!C12:C12) -> 1130.687
A14: 상하수도 | B14: 사용량(㎥) | C14: 390 | O14: =SUM(C14:N14) -> 390
B15: 전년동월대비증감(%) | C15: =C14/'2021년도'!C14 -> 1.2786885 | D15: =D14/'2021년도'!D14 -> 0 | E15: =E14/'2021년도'!E14 -> 0 | F15: =F14/'2021년도'!F14 -> 0 | G15: =G14/'2021년도'!G14 -> 0 | H15: =H14/'2021년도'!H14 -> 0 | I15: =I14/'2021년도'!I14 -> 0 | J15: =J14/'2021년도'!J14 -> 0 | ... N15: =N14/'2021년도'!N14 -> 0 | O15: =O14/S15 -> 1.2786885 | S15: =SUM('2021년도'!C14:C14) -> 305
