Workbook
Name _: [1]Training!$J$1:$J$45
Name a: [2]노무비!#REF!
Name a: [2]노무비!#REF!
Name a: [2]노무비!#REF!
Name aaaa: '[3]인원계획-미화'!#REF!
Name aaaa: '[3]인원계획-미화'!#REF!
Name aaaa: '[3]인원계획-미화'!#REF!
Name CELLNOTE10: [4]노무비!#REF!
Name CELLNOTE10: [4]노무비!#REF!
Name CELLNOTE10: [4]노무비!#REF!
Name CELLNOTE4: [5]노무비!#REF!
Name CELLNOTE4: [5]노무비!#REF!
Name CELLNOTE4: [5]노무비!#REF!
Name CELLNOTE5: [4]노무비!#REF!
Name CELLNOTE5: [4]노무비!#REF!
Name CELLNOTE5: [4]노무비!#REF!
Name CELLNOTE6: [5]노무비!#REF!
Name CELLNOTE6: [5]노무비!#REF!
Name CELLNOTE6: [5]노무비!#REF!
Name CELLNOTE8: [5]노무비!#REF!
Name CELLNOTE8: [5]노무비!#REF!
Name CELLNOTE8: [5]노무비!#REF!
Name cfdd: [4]노무비!#REF!
Name cfdd: [4]노무비!#REF!
Name cfdd: [4]노무비!#REF!
Name Cover: '[1]Facility Information'!$A$1:$H$27
Name CR: #REF!
Name CR: #REF!
Name CR: #REF!
Name CRa: #REF!
Name CRa: #REF!
Name CRa: #REF!
Name CRb: #REF!
Name CRb: #REF!
Name CRb: #REF!
Name ddd: #REF!
Name ddd: #REF!
Name ddd: #REF!
Name dddd: [5]노무비!#REF!
Name dddd: [5]노무비!#REF!
Name dddd: [5]노무비!#REF!
Name dhdhdh: '[3]인원계획-미화'!#REF!
Name dhdhdh: '[3]인원계획-미화'!#REF!
Name dhdhdh: '[3]인원계획-미화'!#REF!
Name FirstFinYearEnd: [6]재무가정!$H$13
Name General: [1]General!$A$1:$J$557
Name Graph: #REF!
Name Graph: #REF!
Name Graph: #REF!
Name hhh: '[3]인원계획-미화'!#REF!
Name hhh: '[3]인원계획-미화'!#REF!
Name hhh: '[3]인원계획-미화'!#REF!
Name hhhhhhhh: [5]노무비!#REF!
Name hhhhhhhh: [5]노무비!#REF!
Name hhhhhhhh: [5]노무비!#REF!
Name Instructions: [1]Instructions!$A$1:$C$67
Name kkkkk: '[7]인원계획-미화'!#REF!
Name kkkkk: '[7]인원계획-미화'!#REF!
Name kkkkk: '[7]인원계획-미화'!#REF!
Name kl: [5]노무비!#REF!

Sheet 2022년도
A1: 2022년도 청사 에너지 사용 현황
L2: =SUM(L6,L8) -> 63541 | M2: =SUM(M6,M8) -> 81164 | N2: =SUM(N6,N8) -> 122035
C3: =ROUND(#REF!/#REF!,3) -> #REF! | D3: =ROUND(#REF!/#REF!,3) -> #REF! | E3: =ROUND(#REF!/#REF!,3) -> #REF! | F3: =ROUND(#REF!/#REF!,3) -> #REF! | G3: =ROUND(#REF!/#REF!,3) -> #REF! | H3: =ROUND(#REF!/#REF!,3) -> #REF! | I3: =ROUND(#REF!/#REF!,3) -> #REF! | J3: =ROUND(#REF!/#REF!,3) -> #REF! | ... N3: =ROUND(#REF!/#REF!,3) -> #REF! | O3: =SUM(C3:N3) -> #REF!
C4: 0.073 | D4: 0.071 | E4: 0.073 | F4: 0.073 | G4: 0.075 | H4: 0.078 | I4: 0.116 | J4: 0.115 | K4: 0.085 | L4: 0.08 | M4: 0.08 | N4: 0.081 | O4: =SUM(C4:N4) -> 1
A5: 구 분 | C5: 1 월 | D5: 2 월 | E5: 3 월 | F5: 4 월 | G5: 5 월 | H5: 6 월 | I5: 7 월 | J5: 8 월 | K5: 9 월 | L5: 10 월 | M5: 11 월 | N5: 12 월 | O5: 합 계
A6: 일반전기 | B6: 사용량(kWh) | C6: 74348 | D6: 66634 | E6: 68341 | F6: 63921 | G6: 64038 | H6: 62779 | I6: 68375 | J6: 68077 | K6: 62791 | L6: 62442 | M6: 64907 | N6: 71745 | O6: 798398
B7: 전년동월대비증감(%) | C7: 0.073710358 | D7: 0.081931545 | E7: 0.00051240008 | F7: -0.0019984699 | G7: 0.052028059 | H7: -0.044023146 | I7: -0.068447799 | J7: -0.028193342 | K7: -0.031780053 | L7: -0.049227255 | M7: 0.017287317 | N7: -0.035516959 | O7: -0.0043634033 | S7: =SUM(#REF!) -> #REF!
A8: 심야전기 | B8: 사용량(kWh) | C8: 57360 | D8: 46118 | E8: 19824 | F8: 6802 | G8: 7042 | H8: 31752 | I8: 45470 | J8: 43166 | K8: 21153 | L8: 1099 | M8: 16257 | N8: 50290 | O8: 346333
B9: 전년동월대비증감(%) | C9: -0.1360535 | D9: 0.03401269 | E9: 0.38213763 | F9: -0.57112232 | G9: -0.58578907 | H9: 0.028138458 | I9: 0.012604668 | J9: 0.081393892 | K9: -0.048833131 | L9: -0.93618627 | M9: -0.2344243 | N9: -0.10120994 | O9: -0.11321953 | S9: =SUM(#REF!) -> #REF!
A10: 도시가스(주방) | B10: 사용량(㎥) | C10: 217.9707 | D10: 271.7169 | E10: 219 | F10: 233.8955 | G10: 202.8576 | H10: 151.1488 | I10: 186.9472 | J10: 137.2272 | K10: 152.1432 | L10: 178.992 | M10: 182.9696 | N10: 197.8856 | O10: 2332.7543
B11: 전년동월대비증감(%) | C11: -0.056887292 | D11: 0.57660903 | E11: 0.022490114 | F11: 0.16336634 | G11: 0.078389064 | H11: -0.062576827 | I11: 17.69472 | J11: 33.468803 | K11: 1520.432 | L11: 1788.92 | M11: -0.089932584 | N11: -0.057687619 | O11: 0.46412378 | S11: =SUM(#REF!) -> #REF!
A12: 도시가스(기계실) | B12: 사용량(㎥) | C12: 1161.5151 | D12: 1318.7725 | E12: 1142 | F12: 1221.2331 | G12: 1140.5768 | H12: 924.792 | I12: 877.0608 | J12: 798.5032 | K12: 799.4976 | L12: 963.5736 | M12: 963.5736 | N12: 1114.7224 | O12: 12425.821
B13: 전년동월대비증감(%) | C13: 0.027264928 | D13: 0.20895247 | E13: -0.14895609 | F13: 0.062337662 | G13: 0.0025921481 | H13: -0.048967198 | I13: 0.12156113 | J13: 0.068274151 | K13: 0.095870372 | L13: 0.25730361 | M13: -0.10192599 | N13: -0.035707266 | O13: 0.028852858 | S13: =SUM(#REF!) -> #REF!
A14: 상하수도 | B14: 사용량(㎥) | C14: 390 | D14: 313 | E14: 355 | F14: 638 | G14: 467 | H14: 477 | I14: 521 | J14: 407 | K14: 368 | L14: 425 | M14: 432 | N14: 344 | O14: 5137
B15: 전년동월대비증감(%) | C15: 0.27868852 | D15: -0.14246575 | E15: -0.1567696 | F15: -0.18622449 | G15: 0.20984456 | H15: 0.15217391 | I15: 0.51895044 | J15: 0.35666667 | K15: 0.35294118 | L15: 0.098191214 | M15: 0.093670886 | N15: -0.082666667 | O15: 0.082157152 | S15: =SUM(#REF!) -> #REF!

Sheet 2023년도
A1: □ 2023년도 청사 에너지 사용 현황
C3: =ROUND(#REF!/#REF!,3) -> #REF! | D3: =ROUND(#REF!/#REF!,3) -> #REF! | E3: =ROUND(#REF!/#REF!,3) -> #REF! | F3: =ROUND(#REF!/#REF!,3) -> #REF! | G3: =ROUND(#REF!/#REF!,3) -> #REF! | H3: =ROUND(#REF!/#REF!,3) -> #REF! | I3: =ROUND(#REF!/#REF!,3) -> #REF! | J3: =ROUND(#REF!/#REF!,3) -> #REF! | ... N3: =ROUND(#REF!/#REF!,3) -> #REF! | O3: =SUM(C3:N3) -> #REF!
C4: 0.073 | D4: 0.071 | E4: 0.073 | F4: 0.073 | G4: 0.075 | H4: 0.078 | I4: 0.116 | J4: 0.115 | K4: 0.085 | L4: 0.08 | M4: 0.08 | N4: 0.081 | O4: =SUM(C4:N4) -> 1
A5: 구 분 | C5: 1 월 | D5: 2 월 | E5: 3 월 | F5: 4 월 | G5: 5 월 | H5: 6 월 | I5: 7 월 | J5: 8 월 | K5: 9 월 | L5: 10 월 | M5: 11 월 | N5: 12 월 | O5: 합 계
A6: 일반전기 | B6: 사용량(kWh) | C6: 70293 | D6: 62115 | E6: 59774 | F6: 57842 | G6: 62234 | H6: 64332 | I6: 62396 | J6: 65221 | K6: 56484 | L6: 59112 | M6: 59384 | N6: 64841 | O6: =SUM(C6:N6) -> 744028
B7: 전년동월대비증감(%) | C7: =(C6/'2022년도'!C6)-1 -> -0.054540808 | D7: =(D6/'2022년도'!D6)-1 -> -0.067818231 | E7: =(E6/'2022년도'!E6)-1 -> -0.12535667 | F7: =(F6/'2022년도'!F6)-1 -> -0.095101766 | G7: =(G6/'2022년도'!G6)-1 -> -0.028170774 | H7: =(H6/'2022년도'!H6)-1 -> 0.024737571 | I7: =(I6/'2022년도'!I6)-1 -> -0.087444241 | J7: =(J6/'2022년도'!J6)-1 -> -0.041952495 | ... N7: =(N6/'2022년도'!N6)-1 -> -0.096229702 | O7: =(O6/S7)-1 -> -0.068098868 | S7: =SUM('2022년도'!C6:N6) -> 798398
A8: 심야전기 | B8: 사용량(kWh) | C8: 40997 | D8: 21898 | E8: 2117 | F8: 9480 | G8: 6662 | H8: 33447 | I8: 23895 | J8: 41385 | K8: 19838 | L8: 725 | M8: 7363 | N8: 36370 | O8: =SUM(C8:N8) -> 244177
B9: 전년동월대비증감(%) | C9: =(C8/'2022년도'!C8)-1 -> -0.28526848 | D9: =(D8/'2022년도'!D8)-1 -> -0.52517455 | E9: =(E8/'2022년도'!E8)-1 -> -0.89321025 | F9: =(F8/'2022년도'!F8)-1 -> 0.39370773 | G9: =(G8/'2022년도'!G8)-1 -> -0.053961943 | H9: =(H8/'2022년도'!H8)-1 -> 0.053382464 | I9: =(I8/'2022년도'!I8)-1 -> -0.47448867 | J9: =(J8/'2022년도'!J8)-1 -> -0.041259324 | ... N9: =(N8/'2022년도'!N8)-1 -> -0.27679459 | O9: =(O8/S9)-1 -> -0.29496467 | S9: =SUM('2022년도'!C8:N8) -> 346333
A10: 도시가스(주방) | B10: 사용량(㎥) | C10: 12.9272 | D10: 0 | E10: 0 | F10: 0 | G10: 0 | H10: 0 | I10: 0 | J10: 0 | K10: 0 | L10: 0 | M10: 0 | N10: 0 | O10: =SUM(C10:N10) -> 12.9272
B11: 전년동월대비증감(%) | C11: =(C10/'2022년도'!C10)-1 -> -0.94069295 | D11: =(D10/'2022년도'!D10)-1 -> -1 | E11: =(E10/'2022년도'!E10)-1 -> -1 | F11: =(F10/'2022년도'!F10)-1 -> -1 | G11: =(G10/'2022년도'!G10)-1 -> -1 | H11: =(H10/'2022년도'!H10)-1 -> -1 | I11: =(I10/'2022년도'!I10)-1 -> -1 | J11: =(J10/'2022년도'!J10)-1 -> -1 | ... N11: =(N10/'2022년도'!N10)-1 -> -1 | O11: =(O10/S11)-1 -> -0.9944584 | S11: =SUM('2022년도'!C10:N10) -> 2332.7543
A12: 도시가스(기계실) | B12: 사용량(㎥) | C12: 1219.1344 | D12: 1162.4536 | E12: 1150.5208 | F12: 1094.8344 | G12: 1007.3272 | H12: 868.4064 | I12: 837.6048 | J12: 683.5968 | K12: 719.3664 | L12: 946.9008 | M12: 964.7856 | N12: 1056.1968 | O12: =SUM(C12:N12) -> 11711.128
B13: 전년동월대비증감(%) | C13: =(C12/'2022년도'!C12)-1 -> 0.049607018 | D13: =(D12/'2022년도'!D12)-1 -> -0.11853364 | E13: =(E12/'2022년도'!E12)-1 -> 0.007461296 | F13: =(F12/'2022년도'!F12)-1 -> -0.10350088 | G13: =(G12/'2022년도'!G12)-1 -> -0.1168265 | H13: =(H12/'2022년도'!H12)-1 -> -0.060971116 | I13: =(I12/'2022년도'!I12)-1 -> -0.044986619 | J13: =(J12/'2022년도'!J12)-1 -> -0.14390224 | ... N13: =(N12/'2022년도'!N12)-1 -> -0.052502399 | O13: =(O12/S13)-1 -> -0.05751674 | S13: =SUM('2022년도'!C12:N12) -> 12425.821
A14: 상하수도 | B14: 사용량(㎥) | C14: 347 | D14: 397 | E14: 361 | F14: 470 | G14: 336 | H14: 423 | I14: 365 | J14: 365 | K14: 314 | L14: 366 | M14: 372 | N14: 307 | O14: =SUM(C14:N14) -> 4423
B15: 전년동월대비증감(%) | C15: =(C14/'2022년도'!C14)-1 -> -0.11025641 | D15: =(D14/'2022년도'!D14)-1 -> 0.26837061 | E15: =(E14/'2022년도'!E14)-1 -> 0.016901408 | F15: =(F14/'2022년도'!F14)-1 -> -0.26332288 | G15: =(G14/'2022년도'!G14)-1 -> -0.28051392 | H15: =(H14/'2022년도'!H14)-1 -> -0.11320755 | I15: =(I14/'2022년도'!I14)-1 -> -0.29942418 | J15: =(J14/'2022년도'!J14)-1 -> -0.1031941 | ... N15: =(N14/'2022년도'!N14)-1 -> -0.10755814 | O15: =(O14/S15)-1 -> -0.13899163 | S15: =SUM('2022년도'!C14:N14) -> 5137
