Workbook
Name _: [1]Training!$J$1:$J$45
Name a: [2]노무비!#REF!
Name a: [2]노무비!#REF!
Name a: [2]노무비!#REF!
Name aaaa: '[3]인원계획-미화'!#REF!
Name aaaa: '[3]인원계획-미화'!#REF!
Name aaaa: '[3]인원계획-미화'!#REF!
Name CELLNOTE10: [4]노무비!#REF!
Name CELLNOTE10: [4]노무비!#REF!
Name CELLNOTE10: [4]노무비!#REF!
Name CELLNOTE4: [5]노무비!#REF!
Name CELLNOTE4: [5]노무비!#REF!
Name CELLNOTE4: [5]노무비!#REF!
Name CELLNOTE5: [4]노무비!#REF!
Name CELLNOTE5: [4]노무비!#REF!
Name CELLNOTE5: [4]노무비!#REF!
Name CELLNOTE6: [5]노무비!#REF!
Name CELLNOTE6: [5]노무비!#REF!
Name CELLNOTE6: [5]노무비!#REF!
Name CELLNOTE8: [5]노무비!#REF!
Name CELLNOTE8: [5]노무비!#REF!
Name CELLNOTE8: [5]노무비!#REF!
Name cfdd: [4]노무비!#REF!
Name cfdd: [4]노무비!#REF!
Name cfdd: [4]노무비!#REF!
Name Cover: '[1]Facility Information'!$A$1:$H$27
Name CR: #REF!
Name CR: #REF!
Name CR: #REF!
Name CRa: #REF!
Name CRa: #REF!
Name CRa: #REF!
Name CRb: #REF!
Name CRb: #REF!
Name CRb: #REF!
Name ddd: #REF!
Name ddd: #REF!
Name ddd: #REF!
Name dddd: [5]노무비!#REF!
Name dddd: [5]노무비!#REF!
Name dddd: [5]노무비!#REF!
Name dhdhdh: '[3]인원계획-미화'!#REF!
Name dhdhdh: '[3]인원계획-미화'!#REF!
Name dhdhdh: '[3]인원계획-미화'!#REF!
Name FirstFinYearEnd: [6]재무가정!$H$13
Name General: [1]General!$A$1:$J$557
Name Graph: #REF!
Name Graph: #REF!
Name Graph: #REF!
Name hhh: '[3]인원계획-미화'!#REF!
Name hhh: '[3]인원계획-미화'!#REF!
Name hhh: '[3]인원계획-미화'!#REF!
Name hhhhhhhh: [5]노무비!#REF!
Name hhhhhhhh: [5]노무비!#REF!
Name hhhhhhhh: [5]노무비!#REF!
Name Instructions: [1]Instructions!$A$1:$C$67
Name kkkkk: '[7]인원계획-미화'!#REF!
Name kkkkk: '[7]인원계획-미화'!#REF!
Name kkkkk: '[7]인원계획-미화'!#REF!
Name kl: [5]노무비!#REF!

Sheet 2023년도
A1: □ 2023년도 청사 에너지 사용 현황
C3: =ROUND(#REF!/#REF!,3) -> #REF! | D3: =ROUND(#REF!/#REF!,3) -> #REF! | E3: =ROUND(#REF!/#REF!,3) -> #REF! | F3: =ROUND(#REF!/#REF!,3) -> #REF! | G3: =ROUND(#REF!/#REF!,3) -> #REF! | H3: =ROUND(#REF!/#REF!,3) -> #REF! | I3: =ROUND(#REF!/#REF!,3) -> #REF! | J3: =ROUND(#REF!/#REF!,3) -> #REF! | ... N3: =ROUND(#REF!/#REF!,3) -> #REF! | O3: =SUM(C3:N3) -> #REF!
C4: 0.073 | D4: 0.071 | E4: 0.073 | F4: 0.073 | G4: 0.075 | H4: 0.078 | I4: 0.116 | J4: 0.115 | K4: 0.085 | L4: 0.08 | M4: 0.08 | N4: 0.081 | O4: =SUM(C4:N4) -> 1
A5: 구 분 | C5: 1 월 | D5: 2 월 | E5: 3 월 | F5: 4 월 | G5: 5 월 | H5: 6 월 | I5: 7 월 | J5: 8 월 | K5: 9 월 | L5: 10 월 | M5: 11 월 | N5: 12 월 | O5: 합 계
A6: 일반전기 | B6: 사용량(kWh) | C6: 70293 | D6: 62115 | E6: 59774 | F6: 57842 | G6: 62234 | H6: 64332 | I6: 62396 | J6: 65221 | K6: 56484 | L6: 59112 | M6: 59384 | N6: 64841 | O6: =SUM(C6:N6) -> 744028
B7: 전년동월대비증감(%) | C7: -0.054540808 | D7: -0.067818231 | E7: -0.12535667 | F7: -0.095101766 | G7: -0.028170774 | H7: 0.024737571 | I7: -0.087444241 | J7: -0.041952495 | K7: -0.10044433 | L7: -0.05332949 | M7: -0.085090976 | N7: -0.096229702 | O7: -0.068098868 | S7: =SUM(#REF!) -> #REF!
A8: 심야전기 | B8: 사용량(kWh) | C8: 40997 | D8: 21898 | E8: 2117 | F8: 9480 | G8: 6662 | H8: 33447 | I8: 23895 | J8: 41385 | K8: 19838 | L8: 725 | M8: 7363 | N8: 36370 | O8: =SUM(C8:N8) -> 244177
B9: 전년동월대비증감(%) | C9: -0.28526848 | D9: -0.52517455 | E9: -0.89321025 | F9: 0.39370773 | G9: -0.053961943 | H9: 0.053382464 | I9: -0.47448867 | J9: -0.041259324 | K9: -0.062166123 | L9: -0.34030937 | M9: -0.54708741 | N9: -0.27679459 | O9: -0.29496467 | S9: =SUM(#REF!) -> #REF!
A10: 도시가스(주방) | B10: 사용량(㎥) | C10: 12.9272 | D10: 0 | E10: 0 | F10: 0 | G10: 0 | H10: 0 | I10: 0 | J10: 0 | K10: 0 | L10: 0 | M10: 0 | N10: 0 | O10: 12.9272
B11: 전년동월대비증감(%) | C11: -0.94069295 | D11: -1 | E11: -1 | F11: -1 | G11: -1 | H11: -1 | I11: -1 | J11: -1 | K11: -1 | L11: -1 | M11: -1 | N11: -1 | O11: -0.9944584 | S11: =SUM(#REF!) -> #REF!
A12: 도시가스(기계실) | B12: 사용량(㎥) | C12: 1219.1344 | D12: 1162.4536 | E12: 1150.5208 | F12: 1094.8344 | G12: 1007.3272 | H12: 868.4064 | I12: 837.6048 | J12: 683.5968 | K12: 719.3664 | L12: 946.9008 | M12: 964.7856 | N12: 1056.1968 | O12: 11711.128
B13: 전년동월대비증감(%) | C13: 0.049607018 | D13: -0.11853364 | E13: 0.007461296 | F13: -0.10350088 | G13: -0.1168265 | H13: -0.060971116 | I13: -0.044986619 | J13: -0.14390224 | K13: -0.10022694 | L13: -0.017303089 | M13: 0.0012578178 | N13: -0.052502399 | O13: -0.05751674 | S13: =SUM(#REF!) -> #REF!
A14: 상하수도 | B14: 사용량(㎥) | C14: 347 | D14: 397 | E14: 361 | F14: 470 | G14: 336 | H14: 423 | I14: 365 | J14: 365 | K14: 314 | L14: 366 | M14: 372 | N14: 307 | O14: 4423
B15: 전년동월대비증감(%) | C15: -0.11025641 | D15: 0.26837061 | E15: 0.016901408 | F15: -0.26332288 | G15: -0.28051392 | H15: -0.11320755 | I15: -0.29942418 | J15: -0.1031941 | K15: -0.14673913 | L15: -0.13882353 | M15: -0.13888889 | N15: -0.10755814 | O15: -0.13899163 | S15: =SUM(#REF!) -> #REF!

Sheet 2024년도
A1: □ 2024년도 청사 에너지 사용 현황
C3: =ROUND(#REF!/#REF!,3) -> #REF! | D3: =ROUND(#REF!/#REF!,3) -> #REF! | E3: =ROUND(#REF!/#REF!,3) -> #REF! | F3: =ROUND(#REF!/#REF!,3) -> #REF! | G3: =ROUND(#REF!/#REF!,3) -> #REF! | H3: =ROUND(#REF!/#REF!,3) -> #REF! | I3: =ROUND(#REF!/#REF!,3) -> #REF! | J3: =ROUND(#REF!/#REF!,3) -> #REF! | ... N3: =ROUND(#REF!/#REF!,3) -> #REF! | O3: =SUM(C3:N3) -> #REF!
C4: 0.073 | D4: 0.071 | E4: 0.073 | F4: 0.073 | G4: 0.075 | H4: 0.078 | I4: 0.116 | J4: 0.115 | K4: 0.085 | L4: 0.08 | M4: 0.08 | N4: 0.081 | O4: =SUM(C4:N4) -> 1
A5: 구 분 | C5: 1 월 | D5: 2 월 | E5: 3 월 | F5: 4 월 | G5: 5 월 | H5: 6 월 | I5: 7 월 | J5: 8 월 | K5: 9 월 | L5: 10 월 | M5: 11 월 | N5: 12 월 | O5: 합 계
A6: 일반전기 | B6: 사용량(kWh) | C6: 71139 | D6: 61808 | E6: 60356 | F6: 52209 | O6: =SUM(C6:N6) -> 245512
B7: 전년동월대비증감(%) | C7: =(C6/'2023년도'!C6)-1 -> 0.012035338 | D7: =(D6/'2023년도'!D6)-1 -> -0.0049424455 | E7: =(E6/'2023년도'!E6)-1 -> 0.0097366748 | F7: =(F6/'2023년도'!F6)-1 -> -0.097385983 | G7: =(G6/'2023년도'!G6)-1 -> -1 | H7: =(H6/'2023년도'!H6)-1 -> -1 | I7: =(I6/'2023년도'!I6)-1 -> -1 | J7: =(J6/'2023년도'!J6)-1 -> -1 | ... N7: =(N6/'2023년도'!N6)-1 -> -1 | O7: =(O6/S7)-1 -> -0.018046268 | S7: =SUM('2023년도'!C6:F6) -> 250024
A8: 심야전기 | B8: 사용량(kWh) | C8: 34570 | D8: 23443 | E8: 4330 | F8: 6624 | O8: =SUM(C8:N8) -> 68967
B9: 전년동월대비증감(%) | C9: =(C8/'2023년도'!C8)-1 -> -0.15676757 | D9: =(D8/'2023년도'!D8)-1 -> 0.070554389 | E9: =(E8/'2023년도'!E8)-1 -> 1.0453472 | F9: =(F8/'2023년도'!F8)-1 -> -0.30126582 | G9: =(G8/'2023년도'!G8)-1 -> -1 | H9: =(H8/'2023년도'!H8)-1 -> -1 | I9: =(I8/'2023년도'!I8)-1 -> -1 | J9: =(J8/'2023년도'!J8)-1 -> -1 | ... N9: =(N8/'2023년도'!N8)-1 -> -1 | O9: =(O8/S9)-1 -> -0.074169038 | S9: =SUM('2023년도'!C8:F8) -> 74492
A10: 도시가스(주방) | B10: 사용량(㎥) | C10: 0 | D10: 0 | E10: 0 | F10: 0 | O10: =SUM(C10:N10) -> 0
B11: 전년동월대비증감(%) | C11: =(C10/'2023년도'!C10)-1 -> -1 | D11: =(D10/'2023년도'!D10)-1 -> #DIV/0! | E11: =(E10/'2023년도'!E10)-1 -> #DIV/0! | F11: =(F10/'2023년도'!F10)-1 -> #DIV/0! | G11: =(G10/'2023년도'!G10)-1 -> #DIV/0! | H11: =(H10/'2023년도'!H10)-1 -> #DIV/0! | I11: =(I10/'2023년도'!I10)-1 -> #DIV/0! | J11: =(J10/'2023년도'!J10)-1 -> #DIV/0! | ... N11: =(N10/'2023년도'!N10)-1 -> #DIV/0! | O11: =(O10/S11)-1 -> -1 | S11: =SUM('2023년도'!C10:F10) -> 12.9272
A12: 도시가스(기계실) | B12: 사용량(㎥) | C12: 1212.192 | D12: 1128.7295 | E12: 1158.5376 | F12: 1019.4336 | O12: =SUM(C12:N12) -> 4518.8927
B13: 전년동월대비증감(%) | C13: =(C12/'2023년도'!C12)-1 -> -0.0056945321 | D13: =(D12/'2023년도'!D12)-1 -> -0.029011136 | E13: =(E12/'2023년도'!E12)-1 -> 0.0069679749 | F13: =(F12/'2023년도'!F12)-1 -> -0.068869593 | G13: =(G12/'2023년도'!G12)-1 -> -1 | H13: =(H12/'2023년도'!H12)-1 -> -1 | I13: =(I12/'2023년도'!I12)-1 -> -1 | J13: =(J12/'2023년도'!J12)-1 -> -1 | ... N13: =(N12/'2023년도'!N12)-1 -> -1 | O13: =(O12/S13)-1 -> -0.023352459 | S13: =SUM('2023년도'!C12:F12) -> 4626.9432
A14: 상하수도 | B14: 사용량(㎥) | C14: 368 | D14: 373 | E14: 317 | F14: 452 | O14: =SUM(C14:N14) -> 1510
B15: 전년동월대비증감(%) | C15: =(C14/'2023년도'!C14)-1 -> 0.060518732 | D15: =(D14/'2023년도'!D14)-1 -> -0.060453401 | E15: =(E14/'2023년도'!E14)-1 -> -0.12188366 | F15: =(F14/'2023년도'!F14)-1 -> -0.038297872 | G15: =(G14/'2023년도'!G14)-1 -> -1 | H15: =(H14/'2023년도'!H14)-1 -> -1 | I15: =(I14/'2023년도'!I14)-1 -> -1 | J15: =(J14/'2023년도'!J14)-1 -> -1 | ... N15: =(N14/'2023년도'!N14)-1 -> -1 | O15: =(O14/S15)-1 -> -0.041269841 | S15: =SUM('2023년도'!C14:F14) -> 1575
