Workbook
Name _: [1]Training!$J$1:$J$45
Name a: [2]노무비!#REF!
Name a: [2]노무비!#REF!
Name a: [2]노무비!#REF!
Name aaaa: '[3]인원계획-미화'!#REF!
Name aaaa: '[3]인원계획-미화'!#REF!
Name aaaa: '[3]인원계획-미화'!#REF!
Name CELLNOTE10: [4]노무비!#REF!
Name CELLNOTE10: [4]노무비!#REF!
Name CELLNOTE10: [4]노무비!#REF!
Name CELLNOTE4: [5]노무비!#REF!
Name CELLNOTE4: [5]노무비!#REF!
Name CELLNOTE4: [5]노무비!#REF!
Name CELLNOTE5: [4]노무비!#REF!
Name CELLNOTE5: [4]노무비!#REF!
Name CELLNOTE5: [4]노무비!#REF!
Name CELLNOTE6: [5]노무비!#REF!
Name CELLNOTE6: [5]노무비!#REF!
Name CELLNOTE6: [5]노무비!#REF!
Name CELLNOTE8: [5]노무비!#REF!
Name CELLNOTE8: [5]노무비!#REF!
Name CELLNOTE8: [5]노무비!#REF!
Name cfdd: [4]노무비!#REF!
Name cfdd: [4]노무비!#REF!
Name cfdd: [4]노무비!#REF!
Name Cover: '[1]Facility Information'!$A$1:$H$27
Name CR: #REF!
Name CR: #REF!
Name CR: #REF!
Name CRa: #REF!
Name CRa: #REF!
Name CRa: #REF!
Name CRb: #REF!
Name CRb: #REF!
Name CRb: #REF!
Name ddd: #REF!
Name ddd: #REF!
Name ddd: #REF!
Name dddd: [5]노무비!#REF!
Name dddd: [5]노무비!#REF!
Name dddd: [5]노무비!#REF!
Name dhdhdh: '[3]인원계획-미화'!#REF!
Name dhdhdh: '[3]인원계획-미화'!#REF!
Name dhdhdh: '[3]인원계획-미화'!#REF!
Name FirstFinYearEnd: [6]재무가정!$H$13
Name General: [1]General!$A$1:$J$557
Name Graph: #REF!
Name Graph: #REF!
Name Graph: #REF!
Name hhh: '[3]인원계획-미화'!#REF!
Name hhh: '[3]인원계획-미화'!#REF!
Name hhh: '[3]인원계획-미화'!#REF!
Name hhhhhhhh: [5]노무비!#REF!
Name hhhhhhhh: [5]노무비!#REF!
Name hhhhhhhh: [5]노무비!#REF!
Name Instructions: [1]Instructions!$A$1:$C$67
Name kkkkk: '[7]인원계획-미화'!#REF!
Name kkkkk: '[7]인원계획-미화'!#REF!
Name kkkkk: '[7]인원계획-미화'!#REF!
Name kl: [5]노무비!#REF!

Sheet 2024년도
A1: □ 2024년도 청사 에너지 사용 현황
C3: =ROUND(#REF!/#REF!,3) -> #REF! | D3: =ROUND(#REF!/#REF!,3) -> #REF! | E3: =ROUND(#REF!/#REF!,3) -> #REF! | F3: =ROUND(#REF!/#REF!,3) -> #REF! | G3: =ROUND(#REF!/#REF!,3) -> #REF! | H3: =ROUND(#REF!/#REF!,3) -> #REF! | I3: =ROUND(#REF!/#REF!,3) -> #REF! | J3: =ROUND(#REF!/#REF!,3) -> #REF! | ... N3: =ROUND(#REF!/#REF!,3) -> #REF! | O3: =SUM(C3:N3) -> #REF!
C4: 0.073 | D4: 0.071 | E4: 0.073 | F4: 0.073 | G4: 0.075 | H4: 0.078 | I4: 0.116 | J4: 0.115 | K4: 0.085 | L4: 0.08 | M4: 0.08 | N4: 0.081 | O4: =SUM(C4:N4) -> 1
A5: 구 분 | C5: 1 월 | D5: 2 월 | E5: 3 월 | F5: 4 월 | G5: 5 월 | H5: 6 월 | I5: 7 월 | J5: 8 월 | K5: 9 월 | L5: 10 월 | M5: 11 월 | N5: 12 월 | O5: 합 계
A6: 일반전기 | B6: 사용량(kWh) | C6: 71139 | D6: 61808 | E6: 60356 | F6: 52209 | G6: 59073 | H6: 62087 | I6: 73377 | J6: 69725 | K6: 63792 | L6: 64430 | M6: 62109 | N6: 72764 | O6: =SUM(C6:N6) -> 772869 | P6: =O6-#REF! -> #REF!
B7: 전년동월대비증감(%) | C7: 0.012035338 | D7: -0.0049424455 | E7: 0.0097366748 | F7: -0.097385983 | G7: -0.050792171 | H7: -0.034897096 | I7: 0.17598885 | J7: 0.069057512 | K7: 0.12938177 | L7: 0.089964813 | M7: 0.045887781 | N7: 0.12219121 | O7: 0.038763326 | S7: =SUM(#REF!) -> #REF!
A8: 심야전기 | B8: 사용량(kWh) | C8: 34570 | D8: 23443 | E8: 4330 | F8: 6624 | G8: 4661 | H8: 31282 | I8: 41846 | J8: 46594 | K8: 19075 | L8: 734 | M8: 14165 | N8: 38246 | O8: =SUM(C8:N8) -> 265570 | P8: =O8-#REF! -> #REF!
B9: 전년동월대비증감(%) | C9: -0.15676757 | D9: 0.070554389 | E9: 1.0453472 | F9: -0.30126582 | G9: -0.30036025 | H9: -0.064729273 | I9: 0.75124503 | J9: 0.12586686 | K9: -0.038461538 | L9: 0.012413793 | M9: 0.92380823 | N9: 0.051580973 | O9: 0.087612674 | S9: =SUM(#REF!) -> #REF!
A10: 도시가스(주방) | B10: 사용량(㎥) | C10: 0 | D10: 0 | E10: 0 | F10: 0 | G10: 72.5328 | H10: 342.447 | I10: 328.5506 | J10: 305.7208 | K10: 237.2314 | L10: 243.187 | M10: 289.8392 | N10: 183.631 | O10: =SUM(C10:N10) -> 2003.1398 | P10: =O10-#REF! -> #REF!
B11: 전년동월대비증감(%) | C11: -1 | D11: #DIV/0! | E11: #DIV/0! | F11: #DIV/0! | G11: #DIV/0! | H11: #DIV/0! | I11: #DIV/0! | J11: #DIV/0! | K11: #DIV/0! | L11: #DIV/0! | M11: #DIV/0! | N11: #DIV/0! | O11: 153.95543 | S11: =SUM(#REF!) -> #REF!
A12: 도시가스(기계실) | B12: 사용량(㎥) | C12: 1212.192 | D12: 1128.7295 | E12: 1158.5376 | F12: 1019.4336 | G12: 962.7984 | H12: 971.7554 | I12: 903.266 | J12: 787.1318 | K12: 668.0198 | L12: 860.5842 | M12: 1043.2226 | N12: 1061.0894 | O12: =SUM(C12:N12) -> 11776.76 | P12: =O12-#REF! -> #REF!
B13: 전년동월대비증감(%) | C13: -0.0056945321 | D13: -0.029011136 | E13: 0.0069679749 | F13: -0.068869593 | G13: -0.044204902 | H13: 0.11900995 | I13: 0.078391623 | J13: 0.15145624 | K13: -0.071377534 | L13: -0.091156962 | M13: 0.081299928 | N13: 0.0046322807 | O13: 0.005604268 | S13: =SUM(#REF!) -> #REF!
A14: 상하수도 | B14: 사용량(㎥) | C14: 368 | D14: 373 | E14: 317 | F14: 452 | G14: 332 | H14: 460 | I14: 443 | J14: 519 | K14: 405 | L14: 499 | M14: 472 | N14: 473 | O14: =SUM(C14:N14) -> 5113 | P14: =O14-#REF! -> #REF!
B15: 전년동월대비증감(%) | C15: 0.060518732 | D15: -0.060453401 | E15: -0.12188366 | F15: -0.038297872 | G15: -0.011904762 | H15: 0.087470449 | I15: 0.21369863 | J15: 0.42191781 | K15: 0.28980892 | L15: 0.36338798 | M15: 0.2688172 | N15: 0.54071661 | O15: 0.15600271 | S15: =SUM(#REF!) -> #REF!
N18: =SUM(N10,N12) -> 1244.7204

Sheet 2025년도
A1: □ 2025년도 청사 에너지 사용 현황
C3: =ROUND(#REF!/#REF!,3) -> #REF! | D3: =ROUND(#REF!/#REF!,3) -> #REF! | E3: =ROUND(#REF!/#REF!,3) -> #REF! | F3: =ROUND(#REF!/#REF!,3) -> #REF! | G3: =ROUND(#REF!/#REF!,3) -> #REF! | H3: =ROUND(#REF!/#REF!,3) -> #REF! | I3: =ROUND(#REF!/#REF!,3) -> #REF! | J3: =ROUND(#REF!/#REF!,3) -> #REF! | ... N3: =ROUND(#REF!/#REF!,3) -> #REF! | O3: =SUM(C3:N3) -> #REF!
C4: 0.073 | D4: 0.071 | E4: 0.073 | F4: 0.073 | G4: 0.075 | H4: 0.078 | I4: 0.116 | J4: 0.115 | K4: 0.085 | L4: 0.08 | M4: 0.08 | N4: 0.081 | O4: =SUM(C4:N4) -> 1
A5: 구 분 | C5: 1 월 | D5: 2 월 | E5: 3 월 | F5: 4 월 | G5: 5 월 | H5: 6 월 | I5: 7 월 | J5: 8 월 | K5: 9 월 | L5: 10 월 | M5: 11 월 | N5: 12 월 | O5: 합 계
A6: 일반전기 | B6: 사용량(kWh) | C6: 74420 | O6: =SUM(C6:N6) -> 74420
B7: 전년동월대비증감(%) | C7: =(C6/'2024년도'!C6)-1 -> 0.046120974 | D7: =(D6/'2024년도'!D6)-1 -> -1 | E7: =(E6/'2024년도'!E6)-1 -> -1 | F7: =(F6/'2024년도'!F6)-1 -> -1 | G7: =(G6/'2024년도'!G6)-1 -> -1 | H7: =(H6/'2024년도'!H6)-1 -> -1 | I7: =(I6/'2024년도'!I6)-1 -> -1 | J7: =(J6/'2024년도'!J6)-1 -> -1 | ... N7: =(N6/'2024년도'!N6)-1 -> -1 | O7: =(O6/S7)-1 -> 0.046120974 | S7: =SUM('2024년도'!C6) -> 71139
A8: 심야전기 | B8: 사용량(kWh) | C8: 40334 | O8: =SUM(C8:N8) -> 40334
B9: 전년동월대비증감(%) | C9: =(C8/'2024년도'!C8)-1 -> 0.16673416 | D9: =(D8/'2024년도'!D8)-1 -> -1 | E9: =(E8/'2024년도'!E8)-1 -> -1 | F9: =(F8/'2024년도'!F8)-1 -> -1 | G9: =(G8/'2024년도'!G8)-1 -> -1 | H9: =(H8/'2024년도'!H8)-1 -> -1 | I9: =(I8/'2024년도'!I8)-1 -> -1 | J9: =(J8/'2024년도'!J8)-1 -> -1 | ... N9: =(N8/'2024년도'!N8)-1 -> -1 | O9: =(O8/S9)-1 -> 0.16673416 | S9: =SUM('2024년도'!C8) -> 34570
A10: 도시가스(주방) | B10: 사용량(㎥) | C10: 215.3942 | O10: =SUM(C10:N10) -> 215.3942
B11: 전년동월대비증감(%) | C11: =(C10/'2024년도'!C10)-1 -> #DIV/0! | D11: =(D10/'2024년도'!D10)-1 -> #DIV/0! | E11: =(E10/'2024년도'!E10)-1 -> #DIV/0! | F11: =(F10/'2024년도'!F10)-1 -> #DIV/0! | G11: =(G10/'2024년도'!G10)-1 -> -1 | H11: =(H10/'2024년도'!H10)-1 -> -1 | I11: =(I10/'2024년도'!I10)-1 -> -1 | J11: =(J10/'2024년도'!J10)-1 -> -1 | ... N11: =(N10/'2024년도'!N10)-1 -> -1 | O11: =(O10/S11)-1 -> #DIV/0! | S11: =SUM('2024년도'!C10) -> 0
A12: 도시가스(기계실) | B12: 사용량(㎥) | C12: 978.7036 | O12: =SUM(C12:N12) -> 978.7036
B13: 전년동월대비증감(%) | C13: =(C12/'2024년도'!C12)-1 -> -0.19261668 | D13: =(D12/'2024년도'!D12)-1 -> -1 | E13: =(E12/'2024년도'!E12)-1 -> -1 | F13: =(F12/'2024년도'!F12)-1 -> -1 | G13: =(G12/'2024년도'!G12)-1 -> -1 | H13: =(H12/'2024년도'!H12)-1 -> -1 | I13: =(I12/'2024년도'!I12)-1 -> -1 | J13: =(J12/'2024년도'!J12)-1 -> -1 | ... N13: =(N12/'2024년도'!N12)-1 -> -1 | O13: =(O12/S13)-1 -> -0.19261668 | S13: =SUM('2024년도'!C12) -> 1212.192
A14: 상하수도 | B14: 사용량(㎥) | C14: 471 | O14: =SUM(C14:N14) -> 471
B15: 전년동월대비증감(%) | C15: =(C14/'2024년도'!C14)-1 -> 0.2798913 | D15: =(D14/'2024년도'!D14)-1 -> -1 | E15: =(E14/'2024년도'!E14)-1 -> -1 | F15: =(F14/'2024년도'!F14)-1 -> -1 | G15: =(G14/'2024년도'!G14)-1 -> -1 | H15: =(H14/'2024년도'!H14)-1 -> -1 | I15: =(I14/'2024년도'!I14)-1 -> -1 | J15: =(J14/'2024년도'!J14)-1 -> -1 | ... N15: =(N14/'2024년도'!N14)-1 -> -1 | O15: =(O14/S15)-1 -> 0.2798913 | S15: =SUM('2024년도'!C14) -> 368
N18: =SUM(N10,N12) -> 0
