Workbook
Name _: [2]Training!$J$1:$J$45
Name a: [3]노무비!#REF!
Name aaaa: '[4]인원계획-미화'!#REF!
Name CELLNOTE10: [5]노무비!#REF!
Name CELLNOTE4: [6]노무비!#REF!
Name CELLNOTE5: [5]노무비!#REF!
Name CELLNOTE6: [6]노무비!#REF!
Name CELLNOTE8: [6]노무비!#REF!
Name cfdd: [5]노무비!#REF!
Name Cover: '[2]Facility Information'!$A$1:$H$27
Name CR: #REF!
Name CRa: #REF!
Name CRb: #REF!
Name ddd: #REF!
Name dddd: [6]노무비!#REF!
Name dhdhdh: '[4]인원계획-미화'!#REF!
Name FirstFinYearEnd: [7]재무가정!$H$13
Name General: [2]General!$A$1:$J$557
Name Graph: #REF!
Name hhh: '[4]인원계획-미화'!#REF!
Name hhhhhhhh: [6]노무비!#REF!
Name Instructions: [2]Instructions!$A$1:$C$67
Name kkkkk: '[8]인원계획-미화'!#REF!
Name kl: [6]노무비!#REF!
Name Mar: [9]노무비!#REF!
Name mf: #REF!
Name mm: [10]재무가정!$H$13
Name People: [2]People!$A$1:$K$126
Name PPAScore: #REF!
Name QK: [6]노무비!#REF!
Name Quality: [2]Quality!$A$1:$K$444
Name qw: [6]노무비!#REF!
Name Risk: [2]Risk!$A$1:$K$297
Name Sample1: [11]Template!#REF!
Name SChonsei: #REF!
Name sdf: [12]노무비!#REF!
Name ssss: [6]노무비!#REF!
Name TChonsei: #REF!
Name TDeposit: #REF!
Name Training: [2]Training!$A$1:$J$25
Name TRent: #REF!
Name wwwwwwww: [5]노무비!#REF!
Name 단위: '[13]S&R'!$F$51
Name 백만원: [14]리츠!$D$36
Name 보보봅: '[15]인원계획-미화'!#REF!
Name 셀노트4: [16]노무비!#REF!
Name 손익계산서: [10]재무가정!$H$13
Name 연봉: '[4]인원계획-미화'!#REF!
Name 하하: '[17]인원계획-미화'!#REF!
Name 하하1: [18]노무비!#REF!
Name 하하2: [19]노무비!#REF!
Name 하하3: [18]노무비!#REF!
Name 하하4: [20]재무가정!$H$13

Sheet 2024년도
A1: 2024년도 청사 에너지 사용 현황
A2: 1. 에너지 사용량 집계
A3: 구 분 | C3: 1 월 | D3: 2 월 | E3: 3 월 | F3: 4 월 | G3: 5 월 | H3: 6 월 | I3: 7 월 | J3: 8 월 | K3: 9 월 | L3: 10 월 | M3: 11 월 | N3: 12 월 | O3: 합 계 | P3: 비고(연간금액)
A4: 일반전기 | B4: 사용량(kWh) | C4: 71139 | D4: 61808 | E4: 60356 | F4: 52209 | G4: 59073 | H4: 62087 | I4: 73377 | J4: 69725 | K4: 63792 | L4: 64430 | M4: 62109 | N4: 72764 | O4: =SUM(C4:N4) -> 772869 | P4: 작성제외 | R4: 163617619
B5: 전년동월대비증감(%) | C5: =(C4/'[1]2023년도'!C4)-1 -> 0.012035338 | D5: =(D4/'[1]2023년도'!D4)-1 -> -0.0049424455 | E5: =(E4/'[1]2023년도'!E4)-1 -> 0.0097366748 | F5: =(F4/'[1]2023년도'!F4)-1 -> -0.097385983 | G5: =(G4/'[1]2023년도'!G4)-1 -> -0.050792171 | H5: =(H4/'[1]2023년도'!H4)-1 -> -0.034897096 | I5: =(I4/'[1]2023년도'!I4)-1 -> 0.17598885 | J5: =(J4/'[1]2023년도'!J4)-1 -> 0.069057512 | ... N5: =(N4/'[1]2023년도'!N4)-1 -> 0.12219121 | O5: =(O4/T5)-1 -> -0.10287465 | P5: 작성제외 | T5: =SUM('[1]2019년도'!C4:N4) -> 861495
A6: 심야전기 | B6: 사용량(kWh) | C6: 34570 | D6: 23443 | E6: 4330 | F6: 6624 | G6: 4661 | H6: 31282 | I6: 41846 | J6: 46594 | K6: 19075 | L6: 734 | M6: 14165 | N6: 38246 | O6: =SUM(C6:N6) -> 265570 | P6: 작성제외 | R6: 28738060
B7: 전년동월대비증감(%) | C7: =(C6/'[1]2023년도'!C6)-1 -> -0.15676757 | D7: =(D6/'[1]2023년도'!D6)-1 -> 0.070554389 | E7: =(E6/'[1]2023년도'!E6)-1 -> 1.0453472 | F7: =(F6/'[1]2023년도'!F6)-1 -> -0.30126582 | G7: =(G6/'[1]2023년도'!G6)-1 -> -0.30036025 | H7: =(H6/'[1]2023년도'!H6)-1 -> -0.064729273 | I7: =(I6/'[1]2023년도'!I6)-1 -> 0.75124503 | J7: =(J6/'[1]2023년도'!J6)-1 -> 0.12586686 | ... N7: =(N6/'[1]2023년도'!N6)-1 -> 0.051580973 | O7: =(O6/T7)-1 -> -0.2701755 | P7: 작성제외 | T7: =SUM('[1]2019년도'!C6:N6) -> 363882
A8: 도시가스(주방) | B8: 사용량(㎥) | C8: 0 | D8: 0 | E8: 0 | F8: 0 | G8: 72.5328 | H8: 342.447 | I8: 328.5506 | J8: 305.7208 | K8: 237.2314 | L8: 243.187 | M8: 289.8392 | N8: 183.631 | O8: =SUM(C8:N8) -> 2003.1398 | P8: 작성제외 | R8: 2869468
B9: 전년동월대비증감(%) | C9: =(C8/'[1]2023년도'!C8)-1 -> -1 | D9: =(D8/'[1]2023년도'!D8)-1 -> #DIV/0! | E9: =(E8/'[1]2023년도'!E8)-1 -> #DIV/0! | F9: =(F8/'[1]2023년도'!F8)-1 -> #DIV/0! | G9: =(G8/'[1]2023년도'!G8)-1 -> #DIV/0! | H9: =(H8/'[1]2023년도'!H8)-1 -> #DIV/0! | I9: =(I8/'[1]2023년도'!I8)-1 -> #DIV/0! | J9: =(J8/'[1]2023년도'!J8)-1 -> #DIV/0! | ... N9: =(N8/'[1]2023년도'!N8)-1 -> #DIV/0! | O9: =(O8/T9)-1 -> -0.48898157 | P9: 작성제외 | T9: =SUM('[1]2019년도'!C8:N8) -> 3919.8974
A10: 도시가스(기계실) | B10: 사용량(㎥) | C10: 1212.192 | D10: 1128.7296 | E10: 1158.5376 | F10: 1019.4336 | G10: 962.7984 | H10: 971.7554 | I10: 903.266 | J10: 787.1318 | K10: 668.0198 | L10: 860.5842 | M10: 1043.2226 | N10: 1061.0894 | O10: =SUM(C10:N10) -> 11776.76 | P10: 작성제외 | R10: 7204940
B11: 전년동월대비증감(%) | C11: =(C10/'[1]2023년도'!C10)-1 -> -0.0056945321 | D11: =(D10/'[1]2023년도'!D10)-1 -> -0.02901105 | E11: =(E10/'[1]2023년도'!E10)-1 -> 0.0069679749 | F11: =(F10/'[1]2023년도'!F10)-1 -> -0.068869593 | G11: =(G10/'[1]2023년도'!G10)-1 -> -0.044204902 | H11: =(H10/'[1]2023년도'!H10)-1 -> 0.11900995 | I11: =(I10/'[1]2023년도'!I10)-1 -> 0.078391623 | J11: =(J10/'[1]2023년도'!J10)-1 -> 0.15145624 | ... N11: =(N10/'[1]2023년도'!N10)-1 -> 0.0046322807 | O11: =(O10/T11)-1 -> 0.16068304 | P11: 작성제외 | T11: =SUM('[1]2019년도'!C10:N10) -> 10146.405
A12: 상하수도 | B12: 사용량(㎥) | C12: 368 | D12: 373 | E12: 317 | F12: 452 | G12: 332 | H12: 460 | I12: 443 | J12: 519 | K12: 405 | L12: 499 | M12: 472 | N12: 473 | O12: =SUM(C12:N12) -> 5113 | P12: 작성제외 | R12: 18668110
B13: 전년동월대비증감(%) | C13: =(C12/'[1]2023년도'!C12)-1 -> 0.060518732 | D13: =(D12/'[1]2023년도'!D12)-1 -> -0.060453401 | E13: =(E12/'[1]2023년도'!E12)-1 -> -0.12188366 | F13: =(F12/'[1]2023년도'!F12)-1 -> -0.038297872 | G13: =(G12/'[1]2023년도'!G12)-1 -> -0.011904762 | H13: =(H12/'[1]2023년도'!H12)-1 -> 0.087470449 | I13: =(I12/'[1]2023년도'!I12)-1 -> 0.21369863 | J13: =(J12/'[1]2023년도'!J12)-1 -> 0.42191781 | ... N13: =(N12/'[1]2023년도'!N12)-1 -> 0.54071661 | O13: =(O12/T13)-1 -> -0.20046912 | P13: 작성제외 | T13: =SUM('[1]2019년도'!C12:N12) -> 6395

Sheet 2025년도
A1: 2025년도 청사 에너지 사용 현황
A2: 1. 에너지 사용량 집계
A3: 구 분 | C3: 1 월 | D3: 2 월 | E3: 3 월 | F3: 4 월 | G3: 5 월 | H3: 6 월 | I3: 7 월 | J3: 8 월 | K3: 9 월 | L3: 10 월 | M3: 11 월 | N3: 12 월 | O3: 합 계 | P3: 비고(연간금액)
A4: 일반전기 | B4: 사용량(kWh) | C4: 74420 | D4: 75968 | O4: =SUM(C4:N4) -> 150388 | P4: 작성제외 | R4: 163617619
B5: 전년동월대비증감(%) | C5: =(C4/'2024년도'!C4)-1 -> 0.046120974 | D5: =(D4/'2024년도'!D4)-1 -> 0.22909656 | E5: =(E4/'2024년도'!E4)-1 -> -1 | F5: =(F4/'2024년도'!F4)-1 -> -1 | G5: =(G4/'2024년도'!G4)-1 -> -1 | H5: =(H4/'2024년도'!H4)-1 -> -1 | I5: =(I4/'2024년도'!I4)-1 -> -1 | J5: =(J4/'2024년도'!J4)-1 -> -1 | ... N5: =(N4/'2024년도'!N4)-1 -> -1 | O5: =(O4/T5)-1 -> 0.13118762 | P5: 작성제외 | T5: =SUM('2024년도'!C4:D4) -> 132947
A6: 심야전기 | B6: 사용량(kWh) | C6: 40334 | D6: 41702 | O6: =SUM(C6:N6) -> 82036 | P6: 작성제외 | R6: 28738060
B7: 전년동월대비증감(%) | C7: =(C6/'2024년도'!C6)-1 -> 0.16673416 | D7: =(D6/'2024년도'!D6)-1 -> 0.77886789 | E7: =(E6/'2024년도'!E6)-1 -> -1 | F7: =(F6/'2024년도'!F6)-1 -> -1 | G7: =(G6/'2024년도'!G6)-1 -> -1 | H7: =(H6/'2024년도'!H6)-1 -> -1 | I7: =(I6/'2024년도'!I6)-1 -> -1 | J7: =(J6/'2024년도'!J6)-1 -> -1 | ... N7: =(N6/'2024년도'!N6)-1 -> -1 | O7: =(O6/T7)-1 -> 0.41409684 | P7: 작성제외 | T7: =SUM('2024년도'!C6:D6) -> 58013
A8: 도시가스(주방) | B8: 사용량(㎥) | C8: 215.3942 | D8: 222.3424 | O8: =SUM(C8:N8) -> 437.7366 | P8: 작성제외 | R8: 2869468
B9: 전년동월대비증감(%) | C9: =(C8/'2024년도'!C8)-1 -> #DIV/0! | D9: =(D8/'2024년도'!D8)-1 -> #DIV/0! | E9: =(E8/'2024년도'!E8)-1 -> #DIV/0! | F9: =(F8/'2024년도'!F8)-1 -> #DIV/0! | G9: =(G8/'2024년도'!G8)-1 -> -1 | H9: =(H8/'2024년도'!H8)-1 -> -1 | I9: =(I8/'2024년도'!I8)-1 -> -1 | J9: =(J8/'2024년도'!J8)-1 -> -1 | ... N9: =(N8/'2024년도'!N8)-1 -> -1 | O9: =(O8/T9)-1 -> #DIV/0! | P9: 작성제외 | T9: =SUM('2024년도'!C8:D8) -> 0
A10: 도시가스(기계실) | B10: 사용량(㎥) | C10: 978.7036 | D10: 1203.0312 | O10: =SUM(C10:N10) -> 2181.7348 | P10: 작성제외 | R10: 7204940
B11: 전년동월대비증감(%) | C11: =(C10/'2024년도'!C10)-1 -> -0.19261668 | D11: =(D10/'2024년도'!D10)-1 -> 0.065827635 | E11: =(E10/'2024년도'!E10)-1 -> -1 | F11: =(F10/'2024년도'!F10)-1 -> -1 | G11: =(G10/'2024년도'!G10)-1 -> -1 | H11: =(H10/'2024년도'!H10)-1 -> -1 | I11: =(I10/'2024년도'!I10)-1 -> -1 | J11: =(J10/'2024년도'!J10)-1 -> -1 | ... N11: =(N10/'2024년도'!N10)-1 -> -1 | O11: =(O10/T11)-1 -> -0.068001765 | P11: 작성제외 | T11: =SUM('2024년도'!C10:D10) -> 2340.9216
A12: 상하수도 | B12: 사용량(㎥) | C12: 471 | D12: 383 | O12: =SUM(C12:N12) -> 854 | P12: 작성제외 | R12: 18668110
B13: 전년동월대비증감(%) | C13: =(C12/'2024년도'!C12)-1 -> 0.2798913 | D13: =(D12/'2024년도'!D12)-1 -> 0.026809651 | E13: =(E12/'2024년도'!E12)-1 -> -1 | F13: =(F12/'2024년도'!F12)-1 -> -1 | G13: =(G12/'2024년도'!G12)-1 -> -1 | H13: =(H12/'2024년도'!H12)-1 -> -1 | I13: =(I12/'2024년도'!I12)-1 -> -1 | J13: =(J12/'2024년도'!J12)-1 -> -1 | ... N13: =(N12/'2024년도'!N12)-1 -> -1 | O13: =(O12/T13)-1 -> 0.15249663 | P13: 작성제외 | T13: =SUM('2024년도'!C12:D12) -> 741
