Workbook
Name _: [1]Training!$J$1:$J$45
Name a: [2]노무비!#REF!
Name aaaa: '[3]인원계획-미화'!#REF!
Name CELLNOTE10: [4]노무비!#REF!
Name CELLNOTE4: [5]노무비!#REF!
Name CELLNOTE5: [4]노무비!#REF!
Name CELLNOTE6: [5]노무비!#REF!
Name CELLNOTE8: [5]노무비!#REF!
Name cfdd: [4]노무비!#REF!
Name Cover: '[1]Facility Information'!$A$1:$H$27
Name CR: #REF!
Name CRa: #REF!
Name CRb: #REF!
Name ddd: #REF!
Name dddd: [5]노무비!#REF!
Name dhdhdh: '[3]인원계획-미화'!#REF!
Name FirstFinYearEnd: [6]재무가정!$H$13
Name General: [1]General!$A$1:$J$557
Name Graph: #REF!
Name hhh: '[3]인원계획-미화'!#REF!
Name hhhhhhhh: [5]노무비!#REF!
Name Instructions: [1]Instructions!$A$1:$C$67
Name kkkkk: '[7]인원계획-미화'!#REF!
Name kl: [5]노무비!#REF!
Name Mar: [8]노무비!#REF!
Name mf: #REF!
Name mm: [9]재무가정!$H$13
Name People: [1]People!$A$1:$K$126
Name PPAScore: #REF!
Name QK: [5]노무비!#REF!
Name Quality: [1]Quality!$A$1:$K$444
Name qw: [5]노무비!#REF!
Name Risk: [1]Risk!$A$1:$K$297
Name Sample1: [10]Template!#REF!
Name SChonsei: #REF!
Name sdf: [11]노무비!#REF!
Name ssss: [5]노무비!#REF!
Name TChonsei: #REF!
Name TDeposit: #REF!
Name Training: [1]Training!$A$1:$J$25
Name TRent: #REF!
Name wwwwwwww: [4]노무비!#REF!
Name 단위: '[12]S&R'!$F$51
Name 백만원: [13]리츠!$D$36
Name 보보봅: '[14]인원계획-미화'!#REF!
Name 셀노트4: [15]노무비!#REF!
Name 손익계산서: [9]재무가정!$H$13
Name 연봉: '[3]인원계획-미화'!#REF!
Name 하하: '[16]인원계획-미화'!#REF!
Name 하하1: [17]노무비!#REF!
Name 하하2: [18]노무비!#REF!
Name 하하3: [17]노무비!#REF!
Name 하하4: [19]재무가정!$H$13

Sheet 2024년도
A1: 2024년도 청사 에너지 사용 현황
A2: 1. 에너지 사용량 집계
A3: 구 분 | C3: 1 월 | D3: 2 월 | E3: 3 월 | F3: 4 월 | G3: 5 월 | H3: 6 월 | I3: 7 월 | J3: 8 월 | K3: 9 월 | L3: 10 월 | M3: 11 월 | N3: 12 월 | O3: 합 계 | P3: 비 고
A4: 일반전기 | B4: 사용량(kWh) | C4: 71139 | D4: 61808 | E4: 60356 | F4: 52209 | G4: 59073 | H4: 62087 | I4: 73377 | J4: 69725 | K4: 63792 | L4: 64430 | M4: 62109 | N4: 72764 | O4: =SUM(C4:N4) -> 772869
B5: 전년동월대비증감(%) | C5: =(C4/'[20]2023년도'!C4)-1 -> 0.012035338 | D5: =(D4/'[20]2023년도'!D4)-1 -> -0.0049424455 | E5: =(E4/'[20]2023년도'!E4)-1 -> 0.0097366748 | F5: =(F4/'[20]2023년도'!F4)-1 -> -0.097385983 | G5: =(G4/'[20]2023년도'!G4)-1 -> -0.050792171 | H5: =(H4/'[20]2023년도'!H4)-1 -> -0.034897096 | I5: =(I4/'[20]2023년도'!I4)-1 -> 0.17598885 | J5: =(J4/'[20]2023년도'!J4)-1 -> 0.069057512 | ... N5: =(N4/'[20]2023년도'!N4)-1 -> 0.12219121 | O5: =(O4/S5)-1 -> -0.10287465 | S5: =SUM('[20]2019년도'!C4:N4) -> 861495
A6: 심야전기 | B6: 사용량(kWh) | C6: 34570 | D6: 23443 | E6: 4330 | F6: 6624 | G6: 4661 | H6: 31282 | I6: 41846 | J6: 46594 | K6: 19075 | L6: 734 | M6: 14165 | N6: 38246 | O6: =SUM(C6:N6) -> 265570
B7: 전년동월대비증감(%) | C7: =(C6/'[20]2023년도'!C6)-1 -> -0.15676757 | D7: =(D6/'[20]2023년도'!D6)-1 -> 0.070554389 | E7: =(E6/'[20]2023년도'!E6)-1 -> 1.0453472 | F7: =(F6/'[20]2023년도'!F6)-1 -> -0.30126582 | G7: =(G6/'[20]2023년도'!G6)-1 -> -0.30036025 | H7: =(H6/'[20]2023년도'!H6)-1 -> -0.064729273 | I7: =(I6/'[20]2023년도'!I6)-1 -> 0.75124503 | J7: =(J6/'[20]2023년도'!J6)-1 -> 0.12586686 | ... N7: =(N6/'[20]2023년도'!N6)-1 -> 0.051580973 | O7: =(O6/S7)-1 -> -0.2701755 | S7: =SUM('[20]2019년도'!C6:N6) -> 363882
A8: 도시가스(주방) | B8: 사용량(㎥) | C8: 0 | D8: 0 | E8: 0 | F8: 0 | G8: 72.5328 | H8: 342.447 | I8: 328.5506 | J8: 305.7208 | K8: 237.2314 | L8: 243.187 | M8: 289.8392 | N8: 183.631 | O8: =SUM(C8:N8) -> 2003.1398
B9: 전년동월대비증감(%) | C9: =(C8/'[20]2023년도'!C8)-1 -> -1 | D9: =(D8/'[20]2023년도'!D8)-1 -> #DIV/0! | E9: =(E8/'[20]2023년도'!E8)-1 -> #DIV/0! | F9: =(F8/'[20]2023년도'!F8)-1 -> #DIV/0! | G9: =(G8/'[20]2023년도'!G8)-1 -> #DIV/0! | H9: =(H8/'[20]2023년도'!H8)-1 -> #DIV/0! | I9: =(I8/'[20]2023년도'!I8)-1 -> #DIV/0! | J9: =(J8/'[20]2023년도'!J8)-1 -> #DIV/0! | ... N9: =(N8/'[20]2023년도'!N8)-1 -> #DIV/0! | O9: =(O8/S9)-1 -> -0.48898157 | S9: =SUM('[20]2019년도'!C8:N8) -> 3919.8974
A10: 도시가스(기계실) | B10: 사용량(㎥) | C10: 1212.192 | D10: 1128.7296 | E10: 1158.5376 | F10: 1019.4336 | G10: 962.7984 | H10: 971.7554 | I10: 903.266 | J10: 787.1318 | K10: 668.0198 | L10: 860.5842 | M10: 1043.2226 | N10: 1061.0894 | O10: =SUM(C10:N10) -> 11776.76
B11: 전년동월대비증감(%) | C11: =(C10/'[20]2023년도'!C10)-1 -> -0.0056945321 | D11: =(D10/'[20]2023년도'!D10)-1 -> -0.02901105 | E11: =(E10/'[20]2023년도'!E10)-1 -> 0.0069679749 | F11: =(F10/'[20]2023년도'!F10)-1 -> -0.068869593 | G11: =(G10/'[20]2023년도'!G10)-1 -> -0.044204902 | H11: =(H10/'[20]2023년도'!H10)-1 -> 0.11900995 | I11: =(I10/'[20]2023년도'!I10)-1 -> 0.078391623 | J11: =(J10/'[20]2023년도'!J10)-1 -> 0.15145624 | ... N11: =(N10/'[20]2023년도'!N10)-1 -> 0.0046322807 | O11: =(O10/S11)-1 -> 0.16068304 | S11: =SUM('[20]2019년도'!C10:N10) -> 10146.405
A12: 상하수도 | B12: 사용량(㎥) | C12: 368 | D12: 373 | E12: 317 | F12: 452 | G12: 332 | H12: 460 | I12: 443 | J12: 519 | K12: 405 | L12: 499 | M12: 472 | N12: 473 | O12: =SUM(C12:N12) -> 5113
B13: 전년동월대비증감(%) | C13: =(C12/'[20]2023년도'!C12)-1 -> 0.060518732 | D13: =(D12/'[20]2023년도'!D12)-1 -> -0.060453401 | E13: =(E12/'[20]2023년도'!E12)-1 -> -0.12188366 | F13: =(F12/'[20]2023년도'!F12)-1 -> -0.038297872 | G13: =(G12/'[20]2023년도'!G12)-1 -> -0.011904762 | H13: =(H12/'[20]2023년도'!H12)-1 -> 0.087470449 | I13: =(I12/'[20]2023년도'!I12)-1 -> 0.21369863 | J13: =(J12/'[20]2023년도'!J12)-1 -> 0.42191781 | ... N13: =(N12/'[20]2023년도'!N12)-1 -> 0.54071661 | O13: =(O12/S13)-1 -> -0.20046912 | S13: =SUM('[20]2019년도'!C12:N12) -> 6395

Sheet 2025년도
A1: 2025년도 청사 에너지 사용 현황
A2: 1. 에너지 사용량 집계
A3: 구 분 | C3: 1 월 | D3: 2 월 | E3: 3 월 | F3: 4 월 | G3: 5 월 | H3: 6 월 | I3: 7 월 | J3: 8 월 | K3: 9 월 | L3: 10 월 | M3: 11 월 | N3: 12 월 | O3: 합 계 | P3: 비 고
A4: 일반전기 | B4: 사용량(kWh) | C4: 74420 | D4: 75968 | E4: 65509 | F4: 60141 | G4: 62964 | H4: 65622 | I4: 78083 | J4: 80189 | O4: =SUM(C4:N4) -> 562896
B5: 전년동월대비증감(%) | C5: =(C4/'2024년도'!C4)-1 -> 0.046120974 | D5: =(D4/'2024년도'!D4)-1 -> 0.22909656 | E5: =(E4/'[21]2024년도'!E4)-1 -> 0.085376765 | F5: =(F4/'[22]2024년도'!F4)-1 -> 0.15192783 | G5: =(G4/'2024년도'!G4)-1 -> 0.065867655 | H5: =(H4/'2024년도'!H4)-1 -> 0.056936235 | I5: =(I4/'2024년도'!I4)-1 -> 0.064134538 | J5: =(J4/'2024년도'!J4)-1 -> 0.1500753 | K5: =(K4/'2024년도'!K4)-1 -> -1 | L5: =(L4/'2024년도'!L4)-1 -> -1 | M5: =(M4/'2024년도'!M4)-1 -> -1 | N5: =(N4/'2024년도'!N4)-1 -> -1 | O5: =(O4/T5)-1 -> 0.27916664 | T5: =SUM('2024년도'!C4:I4) -> 440049
A6: 심야전기 | B6: 사용량(kWh) | C6: 40334 | D6: 41702 | E6: 6009 | F6: 4128 | G6: 16157 | H6: 29184 | I6: 46191 | J6: 47659 | O6: =SUM(C6:N6) -> 231364
B7: 전년동월대비증감(%) | C7: =(C6/'2024년도'!C6)-1 -> 0.16673416 | D7: =(D6/'2024년도'!D6)-1 -> 0.77886789 | E7: =(E6/'[21]2024년도'!E6)-1 -> 0.38775982 | F7: =(F6/'[22]2024년도'!F6)-1 -> -0.37681159 | G7: =(G6/'2024년도'!G6)-1 -> 2.4664235 | H7: =(H6/'2024년도'!H6)-1 -> -0.067067323 | I7: =(I6/'2024년도'!I6)-1 -> 0.1038331 | J7: =(J6/'2024년도'!J6)-1 -> 0.02285702 | K7: =(K6/'2024년도'!K6)-1 -> -1 | L7: =(L6/'2024년도'!L6)-1 -> -1 | M7: =(M6/'2024년도'!M6)-1 -> -1 | N7: =(N6/'2024년도'!N6)-1 -> -1 | O7: =(O6/T7)-1 -> 0.57652157 | T7: =SUM('2024년도'!C6:I6) -> 146756
A8: 도시가스(주방) | B8: 사용량(㎥) | C8: 215.3942 | D8: 222.3424 | E8: 272.965 | F8: 224.3276 | G8: 213.409 | H8: 228.114 | I8: 250.9254 | J8: 201.3354 | O8: =SUM(C8:N8) -> 1828.813
B9: 전년동월대비증감(%) | C9: =(C8/'2024년도'!C8)-1 -> #DIV/0! | D9: =(D8/'2024년도'!D8)-1 -> #DIV/0! | E9: =(E8/'[21]2024년도'!E8)-1 -> #DIV/0! | F9: =(F8/'[22]2024년도'!F8)-1 -> #DIV/0! | G9: =(G8/'2024년도'!G8)-1 -> 1.9422413 | H9: =(H8/'2024년도'!H8)-1 -> -0.33387064 | I9: =(I8/'2024년도'!I8)-1 -> -0.23626559 | J9: =(J8/'2024년도'!J8)-1 -> -0.34144029 | K9: =(K8/'2024년도'!K8)-1 -> -1 | L9: =(L8/'2024년도'!L8)-1 -> -1 | M9: =(M8/'2024년도'!M8)-1 -> -1 | N9: =(N8/'2024년도'!N8)-1 -> -1 | O9: =(O8/T9)-1 -> 1.4596345 | T9: =SUM('2024년도'!C8:I8) -> 743.5304
A10: 도시가스(기계실) | B10: 사용량(㎥) | C10: 978.7036 | D10: 1203.0312 | E10: 1278.4688 | F10: 1025.3558 | G10: 1003.5186 | H10: 834.1038 | I10: 796.4154 | J10: 682.3584 | O10: =SUM(C10:N10) -> 7801.9556
B11: 전년동월대비증감(%) | C11: =(C10/'2024년도'!C10)-1 -> -0.19261668 | D11: =(D10/'2024년도'!D10)-1 -> 0.065827635 | E11: =(E10/'[21]2024년도'!E10)-1 -> 0.10351947 | F11: =(F10/'[22]2024년도'!F10)-1 -> 0.0058093043 | G11: =(G10/'2024년도'!G10)-1 -> 0.042293589 | H11: =(H10/'2024년도'!H10)-1 -> -0.14165252 | I11: =(I10/'2024년도'!I10)-1 -> -0.11829361 | J11: =(J10/'2024년도'!J10)-1 -> -0.13310782 | K11: =(K10/'2024년도'!K10)-1 -> -1 | L11: =(L10/'2024년도'!L10)-1 -> -1 | M11: =(M10/'2024년도'!M10)-1 -> -1 | N11: =(N10/'2024년도'!N10)-1 -> -1 | O11: =(O10/T11)-1 -> 0.060522005 | T11: =SUM('2024년도'!C10:I10) -> 7356.7126
A12: 상하수도 | B12: 사용량(㎥) | C12: 471 | D12: 383 | E12: 455 | F12: 573 | G12: 399 | H12: 426 | I12: 436 | J12: 516 | O12: =SUM(C12:N12) -> 3659
B13: 전년동월대비증감(%) | C13: =(C12/'2024년도'!C12)-1 -> 0.2798913 | D13: =(D12/'2024년도'!D12)-1 -> 0.026809651 | E13: =(E12/'[21]2024년도'!E12)-1 -> 0.43533123 | F13: =(F12/'[22]2024년도'!F12)-1 -> 0.26769912 | G13: =(G12/'2024년도'!G12)-1 -> 0.20180723 | H13: =(H12/'2024년도'!H12)-1 -> -0.073913043 | I13: =(I12/'2024년도'!I12)-1 -> -0.015801354 | J13: =(J12/'2024년도'!J12)-1 -> -0.0057803468 | K13: =(K12/'2024년도'!K12)-1 -> -1 | L13: =(L12/'2024년도'!L12)-1 -> -1 | M13: =(M12/'2024년도'!M12)-1 -> -1 | N13: =(N12/'2024년도'!N12)-1 -> -1 | O13: =(O12/T13)-1 -> 0.33296903 | T13: =SUM('2024년도'!C12:I12) -> 2745
