Workbook
Name _: [1]Training!$J$1:$J$45
Name a: [2]노무비!#REF!
Name aaaa: '[3]인원계획-미화'!#REF!
Name CELLNOTE10: [4]노무비!#REF!
Name CELLNOTE4: [5]노무비!#REF!
Name CELLNOTE5: [4]노무비!#REF!
Name CELLNOTE6: [5]노무비!#REF!
Name CELLNOTE8: [5]노무비!#REF!
Name cfdd: [4]노무비!#REF!
Name Cover: '[1]Facility Information'!$A$1:$H$27
Name CR: #REF!
Name CRa: #REF!
Name CRb: #REF!
Name ddd: #REF!
Name dddd: [5]노무비!#REF!
Name dhdhdh: '[3]인원계획-미화'!#REF!
Name FirstFinYearEnd: [6]재무가정!$H$13
Name General: [1]General!$A$1:$J$557
Name Graph: #REF!
Name hhh: '[3]인원계획-미화'!#REF!
Name hhhhhhhh: [5]노무비!#REF!
Name Instructions: [1]Instructions!$A$1:$C$67
Name kkkkk: '[7]인원계획-미화'!#REF!
Name kl: [5]노무비!#REF!
Name Mar: [8]노무비!#REF!
Name mf: #REF!
Name mm: [9]재무가정!$H$13
Name People: [1]People!$A$1:$K$126
Name PPAScore: #REF!
Name QK: [5]노무비!#REF!
Name Quality: [1]Quality!$A$1:$K$444
Name qw: [5]노무비!#REF!
Name Risk: [1]Risk!$A$1:$K$297
Name Sample1: [10]Template!#REF!
Name SChonsei: #REF!
Name sdf: [11]노무비!#REF!
Name ssss: [5]노무비!#REF!
Name TChonsei: #REF!
Name TDeposit: #REF!
Name Training: [1]Training!$A$1:$J$25
Name TRent: #REF!
Name wwwwwwww: [4]노무비!#REF!
Name 단위: '[12]S&R'!$F$51
Name 백만원: [13]리츠!$D$36
Name 보보봅: '[14]인원계획-미화'!#REF!
Name 셀노트4: [15]노무비!#REF!
Name 손익계산서: [9]재무가정!$H$13
Name 연봉: '[3]인원계획-미화'!#REF!
Name 하하: '[16]인원계획-미화'!#REF!
Name 하하1: [17]노무비!#REF!
Name 하하2: [18]노무비!#REF!
Name 하하3: [17]노무비!#REF!
Name 하하4: [19]재무가정!$H$13

Sheet 2025년도
A1: 2025년도 청사 에너지 사용 현황
A2: 1. 에너지 사용량 집계
A3: 구 분 | C3: 1 월 | D3: 2 월 | E3: 3 월 | F3: 4 월 | G3: 5 월 | H3: 6 월 | I3: 7 월 | J3: 8 월 | K3: 9 월 | L3: 10 월 | M3: 11 월 | N3: 12 월 | O3: 합 계 | P3: 비 고
A4: 일반전기 | B4: 사용량(kWh) | C4: 74420 | D4: 75968 | E4: 65509 | F4: 60141 | G4: 62964 | H4: 65622 | I4: 78083 | J4: 80189 | K4: 78708 | L4: 65906 | M4: 60744 | N4: 80697 | O4: 848951
B5: 전년동월대비증감(%) | C5: 0.046120974 | D5: 0.22909656 | E5: 0.085376765 | F5: 0.15192783 | G5: 0.065867655 | H5: 0.056936235 | I5: 0.064134538 | J5: 0.1500753 | K5: 0.23382242 | L5: 0.022908583 | M5: -0.021977491 | N5: 0.10902369 | O5: 0.098441004 | S5: =SUM('[20]2019년도'!C4:N4) -> 861495
A6: 심야전기 | B6: 사용량(kWh) | C6: 40334 | D6: 41702 | E6: 6009 | F6: 4128 | G6: 16157 | H6: 29184 | I6: 46191 | J6: 47659 | K6: 37469 | L6: 720 | M6: 12254 | N6: 46123 | O6: 327930
B7: 전년동월대비증감(%) | C7: 0.16673416 | D7: 0.77886789 | E7: 0.38775982 | F7: -0.37681159 | G7: 2.4664235 | H7: -0.067067323 | I7: 0.1038331 | J7: 0.02285702 | K7: 0.96429882 | L7: -0.019073569 | M7: -0.13490999 | N7: 0.20595618 | O7: 0.23481568 | S7: =SUM('[20]2019년도'!C6:N6) -> 363882
A8: 도시가스(주방) | B8: 사용량(㎥) | C8: 215.3942 | D8: 222.3424 | E8: 272.965 | F8: 224.3276 | G8: 213.409 | H8: 228.114 | I8: 250.9254 | J8: 201.3354 | K8: 184.4748 | L8: 162.6552 | M8: 217.2042 | N8: 197.3682 | O8: 2590.5154
B9: 전년동월대비증감(%) | C9: #DIV/0! | D9: #DIV/0! | E9: #DIV/0! | F9: #DIV/0! | G9: 1.9422413 | H9: -0.33387064 | I9: -0.23626559 | J9: -0.34144029 | K9: -0.22238456 | L9: -0.33115175 | M9: -0.25060447 | N9: 0.07480872 | O9: 0.29322746 | S9: =SUM('[20]2019년도'!C8:N8) -> 3919.8974
A10: 도시가스(기계실) | B10: 사용량(㎥) | C10: 978.7036 | D10: 1203.0312 | E10: 1278.4688 | F10: 1025.3558 | G10: 1003.5186 | H10: 834.1038 | I10: 796.4154 | J10: 682.3584 | K10: 678.3912 | L10: 824.1858 | M10: 970.9722 | N10: 1073.1276 | O10: 11348.632
B11: 전년동월대비증감(%) | C11: -0.19261668 | D11: 0.065827635 | E11: 0.10351947 | F11: 0.0058093043 | G11: 0.042293589 | H11: -0.14165252 | I11: -0.11829361 | J11: -0.13310782 | K11: 0.015525588 | L11: -0.04229499 | M11: -0.069256935 | N11: 0.011345133 | O11: -0.036353631 | S11: =SUM('[20]2019년도'!C10:N10) -> 10146.405
A12: 상하수도 | B12: 사용량(㎥) | C12: 471 | D12: 383 | E12: 455 | F12: 573 | G12: 399 | H12: 426 | I12: 436 | J12: 516 | K12: 439 | L12: 354 | M12: 560 | N12: 338 | O12: 5350
B13: 전년동월대비증감(%) | C13: 0.2798913 | D13: 0.026809651 | E13: 0.43533123 | F13: 0.26769912 | G13: 0.20180723 | H13: -0.073913043 | I13: -0.015801354 | J13: -0.0057803468 | K13: 0.083950617 | L13: -0.29058116 | M13: 0.18644068 | N13: -0.28541226 | O13: 0.046352435 | S13: =SUM('[20]2019년도'!C12:N12) -> 6395

Sheet 2026년도
A1: 2026년도 청사 에너지 사용 현황
A2: 1. 에너지 사용량 집계
A3: 구 분 | C3: 1 월 | D3: 2 월 | E3: 3 월 | F3: 4 월 | G3: 5 월 | H3: 6 월 | I3: 7 월 | J3: 8 월 | K3: 9 월 | L3: 10 월 | M3: 11 월 | N3: 12 월 | O3: 합 계 | P3: 비 고
A4: 일반전기 | B4: 사용량(kWh) | C4: 85224 | D4: 69017 | E4: 66888 | F4: 58294 | O4: =SUM(C4:N4) -> 279423
B5: 전년동월대비증감(%) | C5: =(C4/'2025년도'!C4)-1 -> 0.14517603 | D5: =(D4/'2025년도'!D4)-1 -> -0.091499052 | E5: =(E4/'2025년도'!E4)-1 -> 0.021050543 | F5: =(F4/'2025년도'!F4)-1 -> -0.030711162 | G5: =(G4/'2025년도'!G4)-1 -> -1 | H5: =(H4/'2025년도'!H4)-1 -> -1 | I5: =(I4/'2025년도'!I4)-1 -> -1 | J5: =(J4/'2025년도'!J4)-1 -> -1 | ... N5: =(N4/'2025년도'!N4)-1 -> -1 | O5: =(O4/T5)-1 -> 2.7546762 | T5: =SUM('2025년도'!C4:C4) -> 74420
A6: 심야전기 | B6: 사용량(kWh) | C6: 54543 | D6: 33878 | E6: 2803 | F6: 734 | O6: =SUM(C6:N6) -> 91958
B7: 전년동월대비증감(%) | C7: =(C6/'2025년도'!C6)-1 -> 0.35228343 | D7: =(D6/'2025년도'!D6)-1 -> -0.1876169 | E7: =(E6/'2025년도'!E6)-1 -> -0.53353303 | F7: =(F6/'2025년도'!F6)-1 -> -0.82218992 | G7: =(G6/'2025년도'!G6)-1 -> -1 | H7: =(H6/'2025년도'!H6)-1 -> -1 | I7: =(I6/'2025년도'!I6)-1 -> -1 | J7: =(J6/'2025년도'!J6)-1 -> -1 | ... N7: =(N6/'2025년도'!N6)-1 -> -1 | O7: =(O6/T7)-1 -> 1.2799127 | T7: =SUM('2025년도'!C6:C6) -> 40334
A8: 도시가스(주방) | B8: 사용량(㎥) | C8: 218.196 | D8: 178.524 | E8: 281.6712 | F8: 231.0894 | O8: =SUM(C8:N8) -> 909.4806
B9: 전년동월대비증감(%) | C9: =(C8/'2025년도'!C8)-1 -> 0.013007778 | D9: =(D8/'2025년도'!D8)-1 -> -0.19707622 | E9: =(E8/'2025년도'!E8)-1 -> 0.031894932 | F9: =(F8/'2025년도'!F8)-1 -> 0.030142524 | G9: =(G8/'2025년도'!G8)-1 -> -1 | H9: =(H8/'2025년도'!H8)-1 -> -1 | I9: =(I8/'2025년도'!I8)-1 -> -1 | J9: =(J8/'2025년도'!J8)-1 -> -1 | ... N9: =(N8/'2025년도'!N8)-1 -> -1 | O9: =(O8/T9)-1 -> 3.2224006 | T9: =SUM('2025년도'!C8:C8) -> 215.3942
A10: 도시가스(기계실) | B10: 사용량(㎥) | C10: 1120.734 | D10: 1042.3818 | E10: 1214.955 | F10: 1031.472 | O10: =SUM(C10:N10) -> 4409.5428
B11: 전년동월대비증감(%) | C11: =(C10/'2025년도'!C10)-1 -> 0.14512095 | D11: =(D10/'2025년도'!D10)-1 -> -0.13353719 | E11: =(E10/'2025년도'!E10)-1 -> -0.049679585 | F11: =(F10/'2025년도'!F10)-1 -> 0.0059649538 | G11: =(G10/'2025년도'!G10)-1 -> -1 | H11: =(H10/'2025년도'!H10)-1 -> -1 | I11: =(I10/'2025년도'!I10)-1 -> -1 | J11: =(J10/'2025년도'!J10)-1 -> -1 | ... N11: =(N10/'2025년도'!N10)-1 -> -1 | O11: =(O10/T11)-1 -> 3.5054936 | T11: =SUM('2025년도'!C10:C10) -> 978.7036
A12: 상하수도 | B12: 사용량(㎥) | C12: 397 | D12: 414 | E12: 403 | F12: 469 | O12: =SUM(C12:N12) -> 1683
B13: 전년동월대비증감(%) | C13: =(C12/'2025년도'!C12)-1 -> -0.15711253 | D13: =(D12/'2025년도'!D12)-1 -> 0.080939948 | E13: =(E12/'2025년도'!E12)-1 -> -0.11428571 | F13: =(F12/'2025년도'!F12)-1 -> -0.18150087 | G13: =(G12/'2025년도'!G12)-1 -> -1 | H13: =(H12/'2025년도'!H12)-1 -> -1 | I13: =(I12/'2025년도'!I12)-1 -> -1 | J13: =(J12/'2025년도'!J12)-1 -> -1 | ... N13: =(N12/'2025년도'!N12)-1 -> -1 | O13: =(O12/T13)-1 -> 2.5732484 | T13: =SUM('2025년도'!C12:C12) -> 471
